Workbook

Sheet Rekapitulace stavby
A1: Export Komplet | BA1: 2.0 | BB1: ZAMOK | BT1: False | BU1: False | BV1: {aaf3c9d2-1fe8-4d2a-bb15-69b3871a12c5}
BS2: 0,01 | BT2: 21
BS3: 0,01 | BT3: 15
D4: REKAPITULACE STAVBY | AS4: v --- níže se nacházejí doplnkové a pomocné údaje k sestavám --- v | BE4: Návod na vyplnění | BS4: 0,001
D5: Kód: | K5: 2022_11 | BE5: Měnit lze pouze buňky se žlutým podbarvením!_x000D_ _x000D_ 1) na prvním listu Rekapitulace stavby vyplňte v sestavě_x000D_ _x000D_ a) Souhrnný list_x000D_ - údaje o Uchazeči_x000D_ (přenesou se do ostatních sestav i v jiných listech)_x000D_ _x000D_ b) Rekapitulace objektů_x000D_ - potřebné Ostatní náklady_x000D_ _x000D_ 2) na vybraných listech vyplňte v sestavě_x000D_ _x000D_ a) Krycí list_x000D_ - údaje o Uchazeči, pokud se liší od údajů o Uchazeči na Souhrnném listu_x000D_ (údaje se přenesou do ostatních sestav v daném listu)_x000D_ _x000D_ b) Rekapitulace rozpočtu_x000D_ - potřebné Ostatní náklady_x000D_ _x000D_ c) Celkové náklady za stavbu_x000D_ - ceny u položek_x000D_ - množství, pokud má žluté podbarvení_x000D_ - a v případě potřeby poznámku (ta je ve skrytém sloupci) | BS5: 0,01
D6: Stavba: | K6: Koryta - rekonstrukce VO a ODS | BS6: 0,01
D7: KSO: | AK7: CC-CZ: | BS7: 0,01
D8: Místo: | K8: Koryta | AK8: Datum: | AN8: 8.8.2022 | BS8: 0,01
BS9: 0,01
D10: Zadavatel: | AK10: IČ: | AN10: 42716870 | BS10: 0,01
E11: Obec Koryta | AK11: DIČ: | BS11: 0,01
BS12: 0,01
D13: Uchazeč: | AK13: IČ: | AN13: Vyplň údaj | BS13: 0,01
E14: Vyplň údaj | AK14: DIČ: | AN14: Vyplň údaj | BS14: 0,01
BS15: False
D16: Projektant: | AK16: IČ: | AN16: 16546211 | BS16: False
E17: Jiří PELANT | AK17: DIČ: | BS17: True
BS18: 0,01
D19: Zpracovatel: | AK19: IČ: | AN19: 16546211 | BS19: 0,01
E20: Jiří PELANT | AK20: DIČ: | BS20: True
D22: Poznámka:
D26: Náklady z rozpočtů | AK26: =ROUND(AG94,2) -> 0
D27: Ostatní náklady ze souhrnného listu | AK27: =ROUND(AG97, 2) -> 0
D29: Cena bez DPH | AK29: =ROUND(AK26 + AK27, 2) -> 0
L31: Sazba daně | W31: Základ daně | AK31: Výše daně
D32: DPH | F32: základní | L32: 0.21 | W32: =ROUND(AZ94 + SUM(CD97:CD101), 2) -> 0 | AK32: =ROUND(AV94 + SUM(BY97:BY101), 2) -> 0
F33: snížená | L33: 0.15 | W33: =ROUND(BA94 + SUM(CE97:CE101), 2) -> 0 | AK33: =ROUND(AW94 + SUM(BZ97:BZ101), 2) -> 0
F34: zákl. přenesená | L34: 0.21 | W34: =ROUND(BB94 + SUM(CF97:CF101), 2) -> 0 | AK34: 0
F35: sníž. přenesená | L35: 0.15 | W35: =ROUND(BC94 + SUM(CG97:CG101), 2) -> 0 | AK35: 0
F36: nulová | L36: 0 | W36: =ROUND(BD94 + SUM(CH97:CH101), 2) -> 0 | AK36: 0
D38: Cena s DPH | T38: v | X38: CZK | AK38: =SUM(AK29:AK36) -> 0
D49: Projektant | AH49: Zpracovatel
D60: Datum a podpis: | V60: Razítko | AH60: Datum a podpis: | AM60: Razítko
D64: Objednavatel | AH64: Uchazeč
D75: Datum a podpis: | V75: Razítko | AH75: Datum a podpis: | AM75: Razítko
C82: REKAPITULACE OBJEKTŮ STAVBY A SOUPISŮ PRACÍ
C84: Kód: | L84: =K5 -> 2022_11
C85: Stavba: | L85: =K6 -> Koryta - rekonstrukce VO a ODS
C87: Místo: | L87: =IF(K8="","",K8) -> Koryta | AI87: Datum: | AM87: =IF(AN8= "","",AN8) -> 8.8.2022
C89: Zadavatel: | L89: =IF(E11= "","",E11) -> Obec Koryta | AI89: Projektant: | AM89: =IF(E17="","",E17) -> Jiří PELANT | AS89: Informatívní údaje z listů zakázek
C90: Uchazeč: | L90: =IF(E14= "Vyplň údaj","",E14) | AI90: Zpracovatel: | AM90: =IF(E20="","",E20) -> Jiří PELANT
C92: Kód | I92: Popis | AG92: Cena bez DPH [CZK] | AN92: Cena s DPH [CZK] | AQ92: Typ | AS92: z toho Ostat._x000D_ náklady [CZK] | AT92: DPH [CZK] | AU92: Normohodiny [h] | AV92: DPH základní [CZK] | AW92: DPH snížená [CZK] | AX92: DPH základní přenesená_x000D_ [CZK] | AY92: DPH snížená přenesená_x000D_ [CZK] | AZ92: Základna_x000D_ DPH základní | BA92: Základna_x000D_ DPH snížená | BB92: Základna_x000D_ DPH zákl. přenesená | BC92: Základna_x000D_ DPH sníž. přenesená | BD92: Základna_x000D_ DPH nulová
C94: 1) Náklady z rozpočtů | AG94: =ROUND(AG95,2) -> 0 | AN94: =SUM(AG94,AT94) -> 0 | AS94: =ROUND(AS95,2) -> 0 | AT94: =ROUND(SUM(AV94:AW94),2) -> 0 | AU94: =ROUND(AU95,5) -> 0 | AV94: =ROUND(AZ94*L32,2) -> 0 | AW94: =ROUND(BA94*L33,2) -> 0 | AX94: =ROUND(BB94*L32,2) -> 0 | AY94: =ROUND(BC94*L33,2) -> 0 | AZ94: =ROUND(AZ95,2) -> 0 | BA94: =ROUND(BA95,2) -> 0 | BB94: =ROUND(BB95,2) -> 0 | BC94: =ROUND(BC95,2) -> 0 | BD94: =ROUND(BD95,2) -> 0 | BS94: D | BT94: 0 | BU94: ###NOIMPORT### | BV94: IMPORT | BW94: {aaf3c9d2-1fe8-4d2a-bb15-69b3871a12c5} | BX94: {00000000-0000-0000-0000-000000000000}
A95: / | D95: 2022_11_01 | J95: VEŘEJNÉ OSVĚTLENÍ A ODS | AG95: ='2022_11_01 - VEŘEJNÉ OSVĚ...'!J32 -> 0 | AN95: =SUM(AG95,AT95) -> 0 | AQ95: STA | AS95: 0 | AT95: =ROUND(SUM(AV95:AW95),2) -> 0 | AU95: ='2022_11_01 - VEŘEJNÉ OSVĚ...'!P129 -> 0 | AV95: ='2022_11_01 - VEŘEJNÉ OSVĚ...'!J35 -> 0 | AW95: ='2022_11_01 - VEŘEJNÉ OSVĚ...'!J36 -> 0 | AX95: ='2022_11_01 - VEŘEJNÉ OSVĚ...'!J37 -> 0 | AY95: ='2022_11_01 - VEŘEJNÉ OSVĚ...'!J38 -> 0 | AZ95: ='2022_11_01 - VEŘEJNÉ OSVĚ...'!F35 -> 0 | BA95: ='2022_11_01 - VEŘEJNÉ OSVĚ...'!F36 -> 0 | BB95: ='2022_11_01 - VEŘEJNÉ OSVĚ...'!F37 -> 0 | BC95: ='2022_11_01 - VEŘEJNÉ OSVĚ...'!F38 -> 0 | BD95: ='2022_11_01 - VEŘEJNÉ OSVĚ...'!F39 -> 0 | BT95: 1 | BV95: IMPORT | BW95: {be401bc4-3a5c-428b-91d3-aee976eb9c95} | BX95: {aaf3c9d2-1fe8-4d2a-bb15-69b3871a12c5} | CM95: 2
C97: 2) Ostatní náklady ze souhrnného listu | AG97: =ROUND(SUM(AG98:AG101), 2) -> 0 | AN97: =ROUND(SUM(AN98:AN101), 2) -> 0 | AS97: Procent. zadání_x000D_ [% nákladů rozpočtu] | AT97: Zařazení nákladů | AU97: DPH | AV97: DPH [CZK]
D98: Ostatní náklady | AG98: =ROUND(AG94 * AS98, 2) -> 0 | AN98: =ROUND(AG98 + AV98, 2) -> 0 | AS98: 0 | AT98: stavební čast | AU98: základní | AV98: =ROUND(IF(AU98="základní",AG98*L32,IF(AU98="snížená",AG98*L33,0)), 2) -> 0 | BV98: OSTATNENAKLADY | BY98: =IF(AU98="základní",AV98,0) -> 0 | BZ98: =IF(AU98="snížená",AV98,0) -> 0 | CA98: 0 | CB98: 0 | CC98: 0 | CD98: =IF(AU98="základní",AG98,0) -> 0 | CE98: =IF(AU98="snížená",AG98,0) -> 0 | CF98: =IF(AU98="zákl. přenesená",AG98,0) -> 0 | CG98: =IF(AU98="sníž. přenesená",AG98,0) -> 0 | CH98: =IF(AU98="nulová",AG98,0) -> 0 | CI98: =IF(AU98="základní",1,IF(AU98="snížená",2,IF(AU98="zákl. přenesená",4,IF(AU98="sníž. přenesená",5,3)))) -> 1 | CJ98: =IF(AT98="stavební čast",1,IF(AT98="investiční čast",2,3)) -> 1 | CK98: =IF(D98="Vyplň vlastní","","x") -> x
D99: Vyplň vlastní | AG99: =ROUND(AG94 * AS99, 2) -> 0 | AN99: =ROUND(AG99 + AV99, 2) -> 0 | AS99: 0 | AT99: stavební čast | AU99: základní | AV99: =ROUND(IF(AU99="základní",AG99*L32,IF(AU99="snížená",AG99*L33,0)), 2) -> 0 | BV99: OSTATNENAKLADYVLASTNE | BY99: =IF(AU99="základní",AV99,0) -> 0 | BZ99: =IF(AU99="snížená",AV99,0) -> 0 | CA99: 0 | CB99: 0 | CC99: 0 | CD99: =IF(AU99="základní",AG99,0) -> 0 | CE99: =IF(AU99="snížená",AG99,0) -> 0 | CF99: =IF(AU99="zákl. přenesená",AG99,0) -> 0 | CG99: =IF(AU99="sníž. přenesená",AG99,0) -> 0 | CH99: =IF(AU99="nulová",AG99,0) -> 0 | CI99: =IF(AU99="základní",1,IF(AU99="snížená",2,IF(AU99="zákl. přenesená",4,IF(AU99="sníž. přenesená",5,3)))) -> 1 | CJ99: =IF(AT99="stavební čast",1,IF(AT99="investiční čast",2,3)) -> 1 | CK99: =IF(D99="Vyplň vlastní","","x")
D100: Vyplň vlastní | AG100: =ROUND(AG94 * AS100, 2) -> 0 | AN100: =ROUND(AG100 + AV100, 2) -> 0 | AS100: 0 | AT100: stavební čast | AU100: základní | AV100: =ROUND(IF(AU100="základní",AG100*L32,IF(AU100="snížená",AG100*L33,0)), 2) -> 0 | BV100: OSTATNENAKLADYVLASTNE | BY100: =IF(AU100="základní",AV100,0) -> 0 | BZ100: =IF(AU100="snížená",AV100,0) -> 0 | CA100: 0 | CB100: 0 | CC100: 0 | CD100: =IF(AU100="základní",AG100,0) -> 0 | CE100: =IF(AU100="snížená",AG100,0) -> 0 | CF100: =IF(AU100="zákl. přenesená",AG100,0) -> 0 | CG100: =IF(AU100="sníž. přenesená",AG100,0) -> 0 | CH100: =IF(AU100="nulová",AG100,0) -> 0 | CI100: =IF(AU100="základní",1,IF(AU100="snížená",2,IF(AU100="zákl. přenesená",4,IF(AU100="sníž. přenesená",5,3)))) -> 1 | CJ100: =IF(AT100="stavební čast",1,IF(AT100="investiční čast",2,3)) -> 1 | CK100: =IF(D100="Vyplň vlastní","","x")
D101: Vyplň vlastní | AG101: =ROUND(AG94 * AS101, 2) -> 0 | AN101: =ROUND(AG101 + AV101, 2) -> 0 | AS101: 0 | AT101: stavební čast | AU101: základní | AV101: =ROUND(IF(AU101="základní",AG101*L32,IF(AU101="snížená",AG101*L33,0)), 2) -> 0 | BV101: OSTATNENAKLADYVLASTNE | BY101: =IF(AU101="základní",AV101,0) -> 0 | BZ101: =IF(AU101="snížená",AV101,0) -> 0 | CA101: 0 | CB101: 0 | CC101: 0 | CD101: =IF(AU101="základní",AG101,0) -> 0 | CE101: =IF(AU101="snížená",AG101,0) -> 0 | CF101: =IF(AU101="zákl. přenesená",AG101,0) -> 0 | CG101: =IF(AU101="sníž. přenesená",AG101,0) -> 0 | CH101: =IF(AU101="nulová",AG101,0) -> 0 | CI101: =IF(AU101="základní",1,IF(AU101="snížená",2,IF(AU101="zákl. přenesená",4,IF(AU101="sníž. přenesená",5,3)))) -> 1 | CJ101: =IF(AT101="stavební čast",1,IF(AT101="investiční čast",2,3)) -> 1 | CK101: =IF(D101="Vyplň vlastní","","x")
C103: Celkové náklady za stavbu 1) + 2) | AG103: =ROUND(AG94 + AG97, 2) -> 0 | AN103: =ROUND(AN94 + AN97, 2) -> 0

Sheet 2022_11_01 - VEŘEJNÉ OSVĚ...
AT2: {be401bc4-3a5c-428b-91d3-aee976eb9c95}
AT3: 2
D4: KRYCÍ LIST SOUPISU PRACÍ | M4: v --- níže se nacházejí doplnkové a pomocné údaje k sestavám --- v | AT4: False
D6: Stavba:
E7: ='Rekapitulace stavby'!K6 -> Koryta - rekonstrukce VO a ODS
D8: Objekt:
E9: 2022_11_01 - VEŘEJNÉ OSVĚTLENÍ A ODS
D11: KSO: | I11: CC-CZ:
D12: Místo: | F12: Koryta | I12: Datum: | J12: ='Rekapitulace stavby'!AN8 -> 8.8.2022
D14: Zadavatel: | I14: IČ: | J14: 42716870
E15: Obec Koryta | I15: DIČ:
D17: Uchazeč: | I17: IČ: | J17: ='Rekapitulace stavby'!AN13 -> Vyplň údaj
E18: ='Rekapitulace stavby'!E14 -> Vyplň údaj | I18: DIČ: | J18: ='Rekapitulace stavby'!AN14 -> Vyplň údaj
D20: Projektant: | I20: IČ: | J20: 16546211
E21: Jiří PELANT | I21: DIČ:
D23: Zpracovatel: | I23: IČ: | J23: 16546211
E24: Jiří PELANT | I24: DIČ:
D26: Poznámka:
D30: Náklady z rozpočtu | J30: =J96 -> 0
D31: Ostatní náklady | J31: =J102 -> 0
D32: Cena bez DPH | J32: =ROUND(J30 + J31, 2) -> 0
F34: Základ daně | I34: Sazba daně | J34: Výše daně
D35: DPH | E35: základní | F35: =ROUND((SUM(BE102:BE109) + SUM(BE129:BE229)), 2) -> 0 | I35: 0.21 | J35: =ROUND(((SUM(BE102:BE109) + SUM(BE129:BE229))*I35), 2) -> 0
E36: snížená | F36: =ROUND((SUM(BF102:BF109) + SUM(BF129:BF229)), 2) -> 0 | I36: 0.15 | J36: =ROUND(((SUM(BF102:BF109) + SUM(BF129:BF229))*I36), 2) -> 0
E37: zákl. přenesená | F37: =ROUND((SUM(BG102:BG109) + SUM(BG129:BG229)), 2) -> 0 | I37: 0.21 | J37: =0 -> 0
E38: sníž. přenesená | F38: =ROUND((SUM(BH102:BH109) + SUM(BH129:BH229)), 2) -> 0 | I38: 0.15 | J38: =0 -> 0
E39: nulová | F39: =ROUND((SUM(BI102:BI109) + SUM(BI129:BI229)), 2) -> 0 | I39: 0 | J39: =0 -> 0
D41: Cena s DPH | G41: v | H41: CZK | J41: =SUM(J32:J39) -> 0
D50: Projektant | G50: Zpracovatel
D61: Datum a podpis: | F61: Razítko | G61: Datum a podpis: | J61: Razítko
D65: Objednavatel | G65: Uchazeč
D76: Datum a podpis: | F76: Razítko | G76: Datum a podpis: | J76: Razítko
C82: REKAPITULACE ČLENĚNÍ SOUPISU PRACÍ
C84: Stavba:
E85: =E7 -> Koryta - rekonstrukce VO a ODS
C86: Objekt:
E87: =E9 -> 2022_11_01 - VEŘEJNÉ OSVĚTLENÍ A ODS
C89: Místo: | F89: =F12 -> Koryta | I89: Datum: | J89: =IF(J12="","",J12) -> 8.8.2022
C91: Zadavatel: | F91: =E15 -> Obec Koryta | I91: Projektant: | J91: =E21 -> Jiří PELANT
C92: Uchazeč: | F92: =IF(E18="","",E18) -> Vyplň údaj | I92: Zpracovatel: | J92: =E24 -> Jiří PELANT
C94: Kód dílu - Popis | J94: Cena celkem [CZK]
C96: 1) Náklady ze soupisu prací | J96: =J129 -> 0 | AU96: -1
D97: M - Práce a dodávky M | J97: =J130 -> 0
D98: 21-M - Elektromontáže | J98: =J131 -> 0
D99: 46-M - Zemní práce při extr.mont.pracích | J99: =J177 -> 0
C102: 2) Ostatní náklady | J102: =ROUND(J103 + J104 + J105 + J106 + J107 + J108,2) -> 0 | N102: DPH
D103: Zařízení staveniště | J103: 0 | N103: základní | AY103: VRN | BE103: =IF(N103="základní",J103,0) -> 0 | BF103: =IF(N103="snížená",J103,0) -> 0 | BG103: =IF(N103="zákl. přenesená",J103,0) -> 0 | BH103: =IF(N103="sníž. přenesená",J103,0) -> 0 | BI103: =IF(N103="nulová",J103,0) -> 0 | BJ103: 1
D104: Projektové práce | J104: 0 | N104: základní | AY104: VRN | BE104: =IF(N104="základní",J104,0) -> 0 | BF104: =IF(N104="snížená",J104,0) -> 0 | BG104: =IF(N104="zákl. přenesená",J104,0) -> 0 | BH104: =IF(N104="sníž. přenesená",J104,0) -> 0 | BI104: =IF(N104="nulová",J104,0) -> 0 | BJ104: 1
D105: Územní vlivy | J105: 0 | N105: základní | AY105: VRN | BE105: =IF(N105="základní",J105,0) -> 0 | BF105: =IF(N105="snížená",J105,0) -> 0 | BG105: =IF(N105="zákl. přenesená",J105,0) -> 0 | BH105: =IF(N105="sníž. přenesená",J105,0) -> 0 | BI105: =IF(N105="nulová",J105,0) -> 0 | BJ105: 1
D106: Provozní vlivy | J106: 0 | N106: základní | AY106: VRN | BE106: =IF(N106="základní",J106,0) -> 0 | BF106: =IF(N106="snížená",J106,0) -> 0 | BG106: =IF(N106="zákl. přenesená",J106,0) -> 0 | BH106: =IF(N106="sníž. přenesená",J106,0) -> 0 | BI106: =IF(N106="nulová",J106,0) -> 0 | BJ106: 1
D107: Jiné VRN | J107: 0 | N107: základní | AY107: VRN | BE107: =IF(N107="základní",J107,0) -> 0 | BF107: =IF(N107="snížená",J107,0) -> 0 | BG107: =IF(N107="zákl. přenesená",J107,0) -> 0 | BH107: =IF(N107="sníž. přenesená",J107,0) -> 0 | BI107: =IF(N107="nulová",J107,0) -> 0 | BJ107: 1
D108: Kompletační činnost | J108: =ROUND(J30*T108,2) -> 0 | N108: základní | AY108: KOMPLETACNA | BE108: =IF(N108="základní",J108,0) -> 0 | BF108: =IF(N108="snížená",J108,0) -> 0 | BG108: =IF(N108="zákl. přenesená",J108,0) -> 0 | BH108: =IF(N108="sníž. přenesená",J108,0) -> 0 | BI108: =IF(N108="nulová",J108,0) -> 0 | BJ108: 1
C110: Celkové náklady za stavbu 1) + 2) | J110: =ROUND(J96+J102,2) -> 0
C116: SOUPIS PRACÍ
C118: Stavba:
E119: =E7 -> Koryta - rekonstrukce VO a ODS
C120: Objekt:
E121: =E9 -> 2022_11_01 - VEŘEJNÉ OSVĚTLENÍ A ODS
C123: Místo: | F123: =F12 -> Koryta | I123: Datum: | J123: =IF(J12="","",J12) -> 8.8.2022
C125: Zadavatel: | F125: =E15 -> Obec Koryta | I125: Projektant: | J125: =E21 -> Jiří PELANT
C126: Uchazeč: | F126: =IF(E18="","",E18) -> Vyplň údaj | I126: Zpracovatel: | J126: =E24 -> Jiří PELANT
C128: PČ | D128: Typ | E128: Kód | F128: Popis | G128: MJ | H128: Množství | I128: J.cena [CZK] | J128: Cena celkem [CZK] | K128: Cenová soustava | N128: DPH | O128: J. Nh [h] | P128: Nh celkem [h] | Q128: J. hmotnost [t] | R128: Hmotnost celkem [t] | S128: J. suť [t] | T128: Suť Celkem [t]
C129: Náklady soupisu celkem | J129: =BK129 -> 0 | P129: =P130 -> 0 | R129: =R130 -> 6.9968116 | T129: =T130 -> 5.056 | AT129: D | AU129: -1 | BK129: =BK130 -> 0
D130: D | E130: M | F130: Práce a dodávky M | J130: =BK130 -> 0 | P130: =P131+P177 -> 0 | R130: =R131+R177 -> 6.9968116 | T130: =T131+T177 -> 5.056 | AR130: 3 | AT130: D | AU130: 0 | AY130: ROZPOCET | BK130: =BK131+BK177 -> 0
D131: D | E131: 21-M | F131: Elektromontáže | J131: =BK131 -> 0 | P131: =SUM(P132:P176) -> 0 | R131: =SUM(R132:R176) -> 1.6073925 | T131: =SUM(T132:T176) -> 0 | AR131: 3 | AT131: D | AU131: 1 | AY131: ROZPOCET | BK131: =SUM(BK132:BK176) -> 0
C132: 41 | D132: K | E132: 210100001 | F132: Ukončení vodičů v rozváděči nebo na přístroji včetně zapojení průřezu žíly do 2,5 mm2 | G132: kus | H132: 19 | J132: =ROUND(I132*H132,2) -> 0 | N132: základní | P132: =O132*H132 -> 0 | Q132: 0 | R132: =Q132*H132 -> 0 | S132: 0 | T132: =S132*H132 -> 0 | AR132: 64 | AT132: K | AU132: 2 | AY132: ROZPOCET | BE132: =IF(N132="základní",J132,0) -> 0 | BF132: =IF(N132="snížená",J132,0) -> 0 | BG132: =IF(N132="zákl. přenesená",J132,0) -> 0 | BH132: =IF(N132="sníž. přenesená",J132,0) -> 0 | BI132: =IF(N132="nulová",J132,0) -> 0 | BJ132: 1 | BK132: =ROUND(I132*H132,2) -> 0 | BL132: 64 | BM132: 1239487960
C133: 1 | D133: K | E133: 210100101 | F133: Ukončení vodičů na svorkovnici s otevřením a uzavřením krytu včetně zapojení průřezu žíly do 16 mm2 | G133: kus | H133: 37 | J133: =ROUND(I133*H133,2) -> 0 | N133: základní | P133: =O133*H133 -> 0 | Q133: 0 | R133: =Q133*H133 -> 0 | S133: 0 | T133: =S133*H133 -> 0 | AR133: 64 | AT133: K | AU133: 2 | AY133: ROZPOCET | BE133: =IF(N133="základní",J133,0) -> 0 | BF133: =IF(N133="snížená",J133,0) -> 0 | BG133: =IF(N133="zákl. přenesená",J133,0) -> 0 | BH133: =IF(N133="sníž. přenesená",J133,0) -> 0 | BI133: =IF(N133="nulová",J133,0) -> 0 | BJ133: 1 | BK133: =ROUND(I133*H133,2) -> 0 | BL133: 64 | BM133: -52461794
C134: 2 | D134: K | E134: 210100151 | F134: Ukončení kabelů smršťovací záklopkou nebo páskou se zapojením bez letování žíly do 4x16 mm2 | G134: kus | H134: 37 | J134: =ROUND(I134*H134,2) -> 0 | N134: základní | P134: =O134*H134 -> 0 | Q134: 0 | R134: =Q134*H134 -> 0 | S134: 0 | T134: =S134*H134 -> 0 | AR134: 64 | AT134: K | AU134: 2 | AY134: ROZPOCET | BE134: =IF(N134="základní",J134,0) -> 0 | BF134: =IF(N134="snížená",J134,0) -> 0 | BG134: =IF(N134="zákl. přenesená",J134,0) -> 0 | BH134: =IF(N134="sníž. přenesená",J134,0) -> 0 | BI134: =IF(N134="nulová",J134,0) -> 0 | BJ134: 1 | BK134: =ROUND(I134*H134,2) -> 0 | BL134: 64 | BM134: -392001734
C135: 3 | D135: M | E135: 34343236 | F135: trubka smršťovací tenkostěnná bez lepidla GTI 19,0/9,5 | G135: m | H135: 20 | J135: =ROUND(I135*H135,2) -> 0 | N135: základní | P135: =O135*H135 -> 0 | Q135: 0.0001 | R135: =Q135*H135 -> 0.002 | S135: 0 | T135: =S135*H135 -> 0 | AR135: 256 | AT135: M | AU135: 2 | AY135: ROZPOCET | BE135: =IF(N135="základní",J135,0) -> 0 | BF135: =IF(N135="snížená",J135,0) -> 0 | BG135: =IF(N135="zákl. přenesená",J135,0) -> 0 | BH135: =IF(N135="sníž. přenesená",J135,0) -> 0 | BI135: =IF(N135="nulová",J135,0) -> 0 | BJ135: 1 | BK135: =ROUND(I135*H135,2) -> 0 | BL135: 64 | BM135: 1555744955
C136: 4 | D136: K | E136: 210101233 | F136: Propojení kabelů celoplastových spojkou do 1 kV venkovní smršťovací SVCZ 1 až 5 žíly do 4x10 až 16 mm2 | G136: kus | H136: 3 | J136: =ROUND(I136*H136,2) -> 0 | N136: základní | P136: =O136*H136 -> 0 | Q136: 0 | R136: =Q136*H136 -> 0 | S136: 0 | T136: =S136*H136 -> 0 | AR136: 64 | AT136: K | AU136: 2 | AY136: ROZPOCET | BE136: =IF(N136="základní",J136,0) -> 0 | BF136: =IF(N136="snížená",J136,0) -> 0 | BG136: =IF(N136="zákl. přenesená",J136,0) -> 0 | BH136: =IF(N136="sníž. přenesená",J136,0) -> 0 | BI136: =IF(N136="nulová",J136,0) -> 0 | BJ136: 1 | BK136: =ROUND(I136*H136,2) -> 0 | BL136: 64 | BM136: -2001697900
C137: 5 | D137: M | E137: 35436030 | F137: spojka kabelová smršťovaná přímá do 1kV 91ahsc-35/5 5x6-35mm | G137: kus | H137: 3 | J137: =ROUND(I137*H137,2) -> 0 | N137: základní | P137: =O137*H137 -> 0 | Q137: 0.0081 | R137: =Q137*H137 -> 0.0243 | S137: 0 | T137: =S137*H137 -> 0 | AR137: 256 | AT137: M | AU137: 2 | AY137: ROZPOCET | BE137: =IF(N137="základní",J137,0) -> 0 | BF137: =IF(N137="snížená",J137,0) -> 0 | BG137: =IF(N137="zákl. přenesená",J137,0) -> 0 | BH137: =IF(N137="sníž. přenesená",J137,0) -> 0 | BI137: =IF(N137="nulová",J137,0) -> 0 | BJ137: 1 | BK137: =ROUND(I137*H137,2) -> 0 | BL137: 64 | BM137: 1884008943
C138: 10 | D138: K | E138: 210202013 | F138: Montáž svítidlo LED venkovní na výložník | G138: kus | H138: 5 | J138: =ROUND(I138*H138,2) -> 0 | N138: základní | P138: =O138*H138 -> 0 | Q138: 0 | R138: =Q138*H138 -> 0 | S138: 0 | T138: =S138*H138 -> 0 | AR138: 64 | AT138: K | AU138: 2 | AY138: ROZPOCET | BE138: =IF(N138="základní",J138,0) -> 0 | BF138: =IF(N138="snížená",J138,0) -> 0 | BG138: =IF(N138="zákl. přenesená",J138,0) -> 0 | BH138: =IF(N138="sníž. přenesená",J138,0) -> 0 | BI138: =IF(N138="nulová",J138,0) -> 0 | BJ138: 1 | BK138: =ROUND(I138*H138,2) -> 0 | BL138: 64 | BM138: -1754898493
C139: 6 | D139: K | E139: 210202016 | F139: Montáž svítidlo LED venkovní na sloupek parkový | G139: kus | H139: 14 | J139: =ROUND(I139*H139,2) -> 0 | N139: základní | P139: =O139*H139 -> 0 | Q139: 0 | R139: =Q139*H139 -> 0 | S139: 0 | T139: =S139*H139 -> 0 | AR139: 64 | AT139: K | AU139: 2 | AY139: ROZPOCET | BE139: =IF(N139="základní",J139,0) -> 0 | BF139: =IF(N139="snížená",J139,0) -> 0 | BG139: =IF(N139="zákl. přenesená",J139,0) -> 0 | BH139: =IF(N139="sníž. přenesená",J139,0) -> 0 | BI139: =IF(N139="nulová",J139,0) -> 0 | BJ139: 1 | BK139: =ROUND(I139*H139,2) -> 0 | BL139: 64 | BM139: 1996004150
C140: 11 | D140: M | E140: EPmt02 | F140: Svítidlo LED UniStreet Micro Gen2-BGP281 T25 DN25/727-12,5 W | G140: ks | H140: 1 | J140: =ROUND(I140*H140,2) -> 0 | N140: základní | P140: =O140*H140 -> 0 | Q140: 0 | R140: =Q140*H140 -> 0 | S140: 0 | T140: =S140*H140 -> 0 | AR140: 256 | AT140: M | AU140: 2 | AY140: ROZPOCET | BE140: =IF(N140="základní",J140,0) -> 0 | BF140: =IF(N140="snížená",J140,0) -> 0 | BG140: =IF(N140="zákl. přenesená",J140,0) -> 0 | BH140: =IF(N140="sníž. přenesená",J140,0) -> 0 | BI140: =IF(N140="nulová",J140,0) -> 0 | BJ140: 1 | BK140: =ROUND(I140*H140,2) -> 0 | BL140: 64 | BM140: -433988263
C141: 12 | D141: M | E141: EPmt10 | F141: Svítidlo LED UniStreet Micro Gen2-BGP281 T25 DN25/727-21W | G141: ks | H141: 4 | J141: =ROUND(I141*H141,2) -> 0 | N141: základní | P141: =O141*H141 -> 0 | Q141: 0 | R141: =Q141*H141 -> 0 | S141: 0 | T141: =S141*H141 -> 0 | AR141: 256 | AT141: M | AU141: 2 | AY141: ROZPOCET | BE141: =IF(N141="základní",J141,0) -> 0 | BF141: =IF(N141="snížená",J141,0) -> 0 | BG141: =IF(N141="zákl. přenesená",J141,0) -> 0 | BH141: =IF(N141="sníž. přenesená",J141,0) -> 0 | BI141: =IF(N141="nulová",J141,0) -> 0 | BJ141: 1 | BK141: =ROUND(I141*H141,2) -> 0 | BL141: 64 | BM141: 1620513899
C142: 7 | D142: M | E142: EPmt01 | F142: Svítidlo LED UniStreet Micro Gen2-BGP281T25DW10/727-20W | G142: ks | H142: 1 | J142: =ROUND(I142*H142,2) -> 0 | N142: základní | P142: =O142*H142 -> 0 | Q142: 0 | R142: =Q142*H142 -> 0 | S142: 0 | T142: =S142*H142 -> 0 | AR142: 256 | AT142: M | AU142: 2 | AY142: ROZPOCET | BE142: =IF(N142="základní",J142,0) -> 0 | BF142: =IF(N142="snížená",J142,0) -> 0 | BG142: =IF(N142="zákl. přenesená",J142,0) -> 0 | BH142: =IF(N142="sníž. přenesená",J142,0) -> 0 | BI142: =IF(N142="nulová",J142,0) -> 0 | BJ142: 1 | BK142: =ROUND(I142*H142,2) -> 0 | BL142: 64 | BM142: -1984069649
C143: 8 | D143: M | E143: EPmt08 | F143: Svítidlo LED UniStreet Micro Gen2-BGP281 T25 DW10/727-17W | G143: ks | H143: 5 | J143: =ROUND(I143*H143,2) -> 0 | N143: základní | P143: =O143*H143 -> 0 | Q143: 0 | R143: =Q143*H143 -> 0 | S143: 0 | T143: =S143*H143 -> 0 | AR143: 256 | AT143: M | AU143: 2 | AY143: ROZPOCET | BE143: =IF(N143="základní",J143,0) -> 0 | BF143: =IF(N143="snížená",J143,0) -> 0 | BG143: =IF(N143="zákl. přenesená",J143,0) -> 0 | BH143: =IF(N143="sníž. přenesená",J143,0) -> 0 | BI143: =IF(N143="nulová",J143,0) -> 0 | BJ143: 1 | BK143: =ROUND(I143*H143,2) -> 0 | BL143: 64 | BM143: -720153451
... C176: 37 | D176: K | E176: EP001 | F176: Práce montážní plošiny | G176: hod | H176: 21 | J176: =ROUND(I176*H176,2) -> 0 | N176: základní | P176: =O176*H176 -> 0 | Q176: 0 | R176: =Q176*H176 -> 0 | S176: 0 | T176: =S176*H176 -> 0 | AR176: 64 | AT176: K | AU176: 2 | AY176: ROZPOCET | BE176: =IF(N176="základní",J176,0) -> 0 | BF176: =IF(N176="snížená",J176,0) -> 0 | BG176: =IF(N176="zákl. přenesená",J176,0) -> 0 | BH176: =IF(N176="sníž. přenesená",J176,0) -> 0 | BI176: =IF(N176="nulová",J176,0) -> 0 | BJ176: 1 | BK176: =ROUND(I176*H176,2) -> 0 | BL176: 64 | BM176: -251265149
D177: D | E177: 46-M | F177: Zemní práce při extr.mont.pracích | J177: =BK177 -> 0 | P177: =SUM(P178:P229) -> 0 | R177: =SUM(R178:R229) -> 5.3894191 | T177: =SUM(T178:T229) -> 5.056 | AR177: 3 | AT177: D | AU177: 1 | AY177: ROZPOCET | BK177: =SUM(BK178:BK229) -> 0
C178: 46 | D178: K | E178: 460010024 | F178: Vytyčení trasy vedení kabelového podzemního v zastavěném prostoru | G178: km | H178: 0.6 | J178: =ROUND(I178*H178,2) -> 0 | N178: základní | P178: =O178*H178 -> 0 | Q178: 0.0088 | R178: =Q178*H178 -> 0.00528 | S178: 0 | T178: =S178*H178 -> 0 | AR178: 64 | AT178: K | AU178: 2 | AY178: ROZPOCET | BE178: =IF(N178="základní",J178,0) -> 0 | BF178: =IF(N178="snížená",J178,0) -> 0 | BG178: =IF(N178="zákl. přenesená",J178,0) -> 0 | BH178: =IF(N178="sníž. přenesená",J178,0) -> 0 | BI178: =IF(N178="nulová",J178,0) -> 0 | BJ178: 1 | BK178: =ROUND(I178*H178,2) -> 0 | BL178: 64 | BM178: -970808699
C179: 47 | D179: K | E179: 460010025 | F179: Vytyčení trasy inženýrských sítí v zastavěném prostoru | G179: km | H179: 0.6 | J179: =ROUND(I179*H179,2) -> 0 | N179: základní | P179: =O179*H179 -> 0 | Q179: 0.0099 | R179: =Q179*H179 -> 0.00594 | S179: 0 | T179: =S179*H179 -> 0 | AR179: 64 | AT179: K | AU179: 2 | AY179: ROZPOCET | BE179: =IF(N179="základní",J179,0) -> 0 | BF179: =IF(N179="snížená",J179,0) -> 0 | BG179: =IF(N179="zákl. přenesená",J179,0) -> 0 | BH179: =IF(N179="sníž. přenesená",J179,0) -> 0 | BI179: =IF(N179="nulová",J179,0) -> 0 | BJ179: 1 | BK179: =ROUND(I179*H179,2) -> 0 | BL179: 64 | BM179: -655375792
C180: 48 | D180: K | E180: 460021121 | F180: Sejmutí ornice při elektromontážích strojně tl vrstvy do 20 cm | G180: m2 | H180: 133 | J180: =ROUND(I180*H180,2) -> 0 | N180: základní | P180: =O180*H180 -> 0 | Q180: 0 | R180: =Q180*H180 -> 0 | S180: 0 | T180: =S180*H180 -> 0 | AR180: 64 | AT180: K | AU180: 2 | AY180: ROZPOCET | BE180: =IF(N180="základní",J180,0) -> 0 | BF180: =IF(N180="snížená",J180,0) -> 0 | BG180: =IF(N180="zákl. přenesená",J180,0) -> 0 | BH180: =IF(N180="sníž. přenesená",J180,0) -> 0 | BI180: =IF(N180="nulová",J180,0) -> 0 | BJ180: 1 | BK180: =ROUND(I180*H180,2) -> 0 | BL180: 64 | BM180: 1243367950
C181: 49 | D181: K | E181: 460030011 | F181: Sejmutí drnu při elektromontážích jakékoliv tloušťky | G181: m2 | H181: 133 | J181: =ROUND(I181*H181,2) -> 0 | N181: základní | P181: =O181*H181 -> 0 | Q181: 0 | R181: =Q181*H181 -> 0 | S181: 0 | T181: =S181*H181 -> 0 | AR181: 64 | AT181: K | AU181: 2 | AY181: ROZPOCET | BE181: =IF(N181="základní",J181,0) -> 0 | BF181: =IF(N181="snížená",J181,0) -> 0 | BG181: =IF(N181="zákl. přenesená",J181,0) -> 0 | BH181: =IF(N181="sníž. přenesená",J181,0) -> 0 | BI181: =IF(N181="nulová",J181,0) -> 0 | BJ181: 1 | BK181: =ROUND(I181*H181,2) -> 0 | BL181: 64 | BM181: -1108526096
C182: 50 | D182: K | E182: 460061121 | F182: Přechodová lávka délky do 2 m včetně zábradlí přes výkop u elektromontážních prací zřízení | G182: kus | H182: 8 | J182: =ROUND(I182*H182,2) -> 0 | N182: základní | P182: =O182*H182 -> 0 | Q182: 0.00065 | R182: =Q182*H182 -> 0.0052 | S182: 0 | T182: =S182*H182 -> 0 | AR182: 64 | AT182: K | AU182: 2 | AY182: ROZPOCET | BE182: =IF(N182="základní",J182,0) -> 0 | BF182: =IF(N182="snížená",J182,0) -> 0 | BG182: =IF(N182="zákl. přenesená",J182,0) -> 0 | BH182: =IF(N182="sníž. přenesená",J182,0) -> 0 | BI182: =IF(N182="nulová",J182,0) -> 0 | BJ182: 1 | BK182: =ROUND(I182*H182,2) -> 0 | BL182: 64 | BM182: -1052630683
C183: 51 | D183: K | E183: 460061122 | F183: Přechodová lávka délky do 2 m včetně zábradlí přes výkop u elektromontážních prací odstranění | G183: kus | H183: 8 | J183: =ROUND(I183*H183,2) -> 0 | N183: základní | P183: =O183*H183 -> 0 | Q183: 0 | R183: =Q183*H183 -> 0 | S183: 0 | T183: =S183*H183 -> 0 | AR183: 64 | AT183: K | AU183: 2 | AY183: ROZPOCET | BE183: =IF(N183="základní",J183,0) -> 0 | BF183: =IF(N183="snížená",J183,0) -> 0 | BG183: =IF(N183="zákl. přenesená",J183,0) -> 0 | BH183: =IF(N183="sníž. přenesená",J183,0) -> 0 | BI183: =IF(N183="nulová",J183,0) -> 0 | BJ183: 1 | BK183: =ROUND(I183*H183,2) -> 0 | BL183: 64 | BM183: -1797568855
C184: 52 | D184: K | E184: 460101112 | F184: Odkop zeminy při elektromontážích strojně v hornině tř I skupiny 3 | G184: m3 | H184: 9.1 | J184: =ROUND(I184*H184,2) -> 0 | N184: základní | P184: =O184*H184 -> 0 | Q184: 0 | R184: =Q184*H184 -> 0 | S184: 0 | T184: =S184*H184 -> 0 | AR184: 64 | AT184: K | AU184: 2 | AY184: ROZPOCET | BE184: =IF(N184="základní",J184,0) -> 0 | BF184: =IF(N184="snížená",J184,0) -> 0 | BG184: =IF(N184="zákl. přenesená",J184,0) -> 0 | BH184: =IF(N184="sníž. přenesená",J184,0) -> 0 | BI184: =IF(N184="nulová",J184,0) -> 0 | BJ184: 1 | BK184: =ROUND(I184*H184,2) -> 0 | BL184: 64 | BM184: 1550896809
C185: 53 | D185: K | E185: 460131114 | F185: Hloubení nezapažených jam při elektromontážích ručně v hornině tř II skupiny 4 | G185: m3 | H185: 12.2 | J185: =ROUND(I185*H185,2) -> 0 | N185: základní | P185: =O185*H185 -> 0 | Q185: 0 | R185: =Q185*H185 -> 0 | S185: 0 | T185: =S185*H185 -> 0 | AR185: 64 | AT185: K | AU185: 2 | AY185: ROZPOCET | BE185: =IF(N185="základní",J185,0) -> 0 | BF185: =IF(N185="snížená",J185,0) -> 0 | BG185: =IF(N185="zákl. přenesená",J185,0) -> 0 | BH185: =IF(N185="sníž. přenesená",J185,0) -> 0 | BI185: =IF(N185="nulová",J185,0) -> 0 | BJ185: 1 | BK185: =ROUND(I185*H185,2) -> 0 | BL185: 64 | BM185: 1773521206
C186: 55 | D186: K | E186: 460161172 | F186: Hloubení kabelových rýh ručně š 35 cm hl 80 cm v hornině tř I skupiny 3 | G186: m | H186: 560 | J186: =ROUND(I186*H186,2) -> 0 | N186: základní | P186: =O186*H186 -> 0 | Q186: 0 | R186: =Q186*H186 -> 0 | S186: 0 | T186: =S186*H186 -> 0 | AR186: 64 | AT186: K | AU186: 2 | AY186: ROZPOCET | BE186: =IF(N186="základní",J186,0) -> 0 | BF186: =IF(N186="snížená",J186,0) -> 0 | BG186: =IF(N186="zákl. přenesená",J186,0) -> 0 | BH186: =IF(N186="sníž. přenesená",J186,0) -> 0 | BI186: =IF(N186="nulová",J186,0) -> 0 | BJ186: 1 | BK186: =ROUND(I186*H186,2) -> 0 | BL186: 64 | BM186: -1802106304
C187: 57 | D187: K | E187: 460161313 | F187: Hloubení kabelových rýh ručně š 50 cm hl 120 cm v hornině tř II skupiny 4 | G187: m | H187: 47 | J187: =ROUND(I187*H187,2) -> 0 | N187: základní | P187: =O187*H187 -> 0 | Q187: 0 | R187: =Q187*H187 -> 0 | S187: 0 | T187: =S187*H187 -> 0 | AR187: 64 | AT187: K | AU187: 2 | AY187: ROZPOCET | BE187: =IF(N187="základní",J187,0) -> 0 | BF187: =IF(N187="snížená",J187,0) -> 0 | BG187: =IF(N187="zákl. přenesená",J187,0) -> 0 | BH187: =IF(N187="sníž. přenesená",J187,0) -> 0 | BI187: =IF(N187="nulová",J187,0) -> 0 | BJ187: 1 | BK187: =ROUND(I187*H187,2) -> 0 | BL187: 64 | BM187: -525596569
C188: 85 | D188: K | E188: 460191113 | F188: Rýhy kabelových spojek do 10 kV hloubení ručně včetně zásypu v hornině tř I skupiny 3 | G188: kus | H188: 3 | J188: =ROUND(I188*H188,2) -> 0 | N188: základní | P188: =O188*H188 -> 0 | Q188: 0 | R188: =Q188*H188 -> 0 | S188: 0 | T188: =S188*H188 -> 0 | AR188: 64 | AT188: K | AU188: 2 | AY188: ROZPOCET | BE188: =IF(N188="základní",J188,0) -> 0 | BF188: =IF(N188="snížená",J188,0) -> 0 | BG188: =IF(N188="zákl. přenesená",J188,0) -> 0 | BH188: =IF(N188="sníž. přenesená",J188,0) -> 0 | BI188: =IF(N188="nulová",J188,0) -> 0 | BJ188: 1 | BK188: =ROUND(I188*H188,2) -> 0 | BL188: 64 | BM188: 1423634901
C189: 59 | D189: K | E189: 460242111 | F189: Provizorní zajištění potrubí ve výkopech při křížení s kabelem | G189: kus | H189: 7 | J189: =ROUND(I189*H189,2) -> 0 | N189: základní | P189: =O189*H189 -> 0 | Q189: 0.0038 | R189: =Q189*H189 -> 0.0266 | S189: 0 | T189: =S189*H189 -> 0 | AR189: 64 | AT189: K | AU189: 2 | AY189: ROZPOCET | BE189: =IF(N189="základní",J189,0) -> 0 | BF189: =IF(N189="snížená",J189,0) -> 0 | BG189: =IF(N189="zákl. přenesená",J189,0) -> 0 | BH189: =IF(N189="sníž. přenesená",J189,0) -> 0 | BI189: =IF(N189="nulová",J189,0) -> 0 | BJ189: 1 | BK189: =ROUND(I189*H189,2) -> 0 | BL189: 64 | BM189: -1751249803
... C229: 97 | D229: K | E229: ZP005 | F229: Úprava betonových hlav základů stožárů VO | G229: ks | H229: 18 | J229: =ROUND(I229*H229,2) -> 0 | N229: základní | P229: =O229*H229 -> 0 | Q229: 0 | R229: =Q229*H229 -> 0 | S229: 0 | T229: =S229*H229 -> 0 | AR229: 64 | AT229: K | AU229: 2 | AY229: ROZPOCET | BE229: =IF(N229="základní",J229,0) -> 0 | BF229: =IF(N229="snížená",J229,0) -> 0 | BG229: =IF(N229="zákl. přenesená",J229,0) -> 0 | BH229: =IF(N229="sníž. přenesená",J229,0) -> 0 | BI229: =IF(N229="nulová",J229,0) -> 0 | BJ229: 1 | BK229: =ROUND(I229*H229,2) -> 0 | BL229: 64 | BM229: -769644238
