Workbook

Sheet Rekapitulace stavby
A1: Export Komplet | BA1: 2.0 | BB1: ZAMOK | BT1: False | BU1: False | BV1: {aaf3c9d2-1fe8-4d2a-bb15-69b3871a12c5}
BS2: 0,01 | BT2: 21
BS3: 0,01 | BT3: 15
D4: REKAPITULACE STAVBY | AS4: v --- níže se nacházejí doplnkové a pomocné údaje k sestavám --- v | BE4: Návod na vyplnění | BS4: 0,001
D5: Kód: | K5: 2022_11 | BE5: Měnit lze pouze buňky se žlutým podbarvením!_x000D_ _x000D_ 1) na prvním listu Rekapitulace stavby vyplňte v sestavě_x000D_ _x000D_ a) Souhrnný list_x000D_ - údaje o Uchazeči_x000D_ (přenesou se do ostatních sestav i v jiných listech)_x000D_ _x000D_ b) Rekapitulace objektů_x000D_ - potřebné Ostatní náklady_x000D_ _x000D_ 2) na vybraných listech vyplňte v sestavě_x000D_ _x000D_ a) Krycí list_x000D_ - údaje o Uchazeči, pokud se liší od údajů o Uchazeči na Souhrnném listu_x000D_ (údaje se přenesou do ostatních sestav v daném listu)_x000D_ _x000D_ b) Rekapitulace rozpočtu_x000D_ - potřebné Ostatní náklady_x000D_ _x000D_ c) Celkové náklady za stavbu_x000D_ - ceny u položek_x000D_ - množství, pokud má žluté podbarvení_x000D_ - a v případě potřeby poznámku (ta je ve skrytém sloupci) | BS5: 0,01
D6: Stavba: | K6: Koryta - rekonstrukce VO a ODS | BS6: 0,01
D7: KSO: | AK7: CC-CZ: | BS7: 0,01
D8: Místo: | K8: Koryta | AK8: Datum: | AN8: 8.8.2022 | BS8: 0,01
BS9: 0,01
D10: Zadavatel: | AK10: IČ: | AN10: 42716870 | BS10: 0,01
E11: Obec Koryta | AK11: DIČ: | BS11: 0,01
BS12: 0,01
D13: Uchazeč: | AK13: IČ: | AN13: Vyplň údaj | BS13: 0,01
E14: Vyplň údaj | AK14: DIČ: | AN14: Vyplň údaj | BS14: 0,01
BS15: False
D16: Projektant: | AK16: IČ: | AN16: 16546211 | BS16: False
E17: Jiří PELANT | AK17: DIČ: | BS17: True
BS18: 0,01
D19: Zpracovatel: | AK19: IČ: | AN19: 16546211 | BS19: 0,01
E20: Jiří PELANT | AK20: DIČ: | BS20: True
D22: Poznámka:
D26: Náklady z rozpočtů | AK26: =ROUND(AG94,2) -> 0
D27: Ostatní náklady ze souhrnného listu | AK27: =ROUND(AG97, 2) -> 0
D29: Cena bez DPH | AK29: =ROUND(AK26 + AK27, 2) -> 0
L31: Sazba daně | W31: Základ daně | AK31: Výše daně
D32: DPH | F32: základní | L32: 0.21 | W32: =ROUND(AZ94 + SUM(CD97:CD101), 2) -> 0 | AK32: =ROUND(AV94 + SUM(BY97:BY101), 2) -> 0
F33: snížená | L33: 0.15 | W33: =ROUND(BA94 + SUM(CE97:CE101), 2) -> 0 | AK33: =ROUND(AW94 + SUM(BZ97:BZ101), 2) -> 0
F34: zákl. přenesená | L34: 0.21 | W34: =ROUND(BB94 + SUM(CF97:CF101), 2) -> 0 | AK34: 0
F35: sníž. přenesená | L35: 0.15 | W35: =ROUND(BC94 + SUM(CG97:CG101), 2) -> 0 | AK35: 0
F36: nulová | L36: 0 | W36: =ROUND(BD94 + SUM(CH97:CH101), 2) -> 0 | AK36: 0
D38: Cena s DPH | T38: v | X38: CZK | AK38: =SUM(AK29:AK36) -> 0
D49: Projektant | AH49: Zpracovatel
D60: Datum a podpis: | V60: Razítko | AH60: Datum a podpis: | AM60: Razítko
D64: Objednavatel | AH64: Uchazeč
D75: Datum a podpis: | V75: Razítko | AH75: Datum a podpis: | AM75: Razítko
C82: REKAPITULACE OBJEKTŮ STAVBY A SOUPISŮ PRACÍ
C84: Kód: | L84: =K5 -> 2022_11
C85: Stavba: | L85: =K6 -> Koryta - rekonstrukce VO a ODS
C87: Místo: | L87: =IF(K8="","",K8) -> Koryta | AI87: Datum: | AM87: =IF(AN8= "","",AN8) -> 8.8.2022
C89: Zadavatel: | L89: =IF(E11= "","",E11) -> Obec Koryta | AI89: Projektant: | AM89: =IF(E17="","",E17) -> Jiří PELANT | AS89: Informatívní údaje z listů zakázek
...

Sheet 2022_11_01 - VEŘEJNÉ OSVĚ...
AT2: {be401bc4-3a5c-428b-91d3-aee976eb9c95}
AT3: 2
D4: KRYCÍ LIST SOUPISU PRACÍ | M4: v --- níže se nacházejí doplnkové a pomocné údaje k sestavám --- v | AT4: False
D6: Stavba:
E7: ='Rekapitulace stavby'!K6 -> Koryta - rekonstrukce VO a ODS
D8: Objekt:
E9: 2022_11_01 - VEŘEJNÉ OSVĚTLENÍ A ODS
D11: KSO: | I11: CC-CZ:
D12: Místo: | F12: Koryta | I12: Datum: | J12: ='Rekapitulace stavby'!AN8 -> 8.8.2022
D14: Zadavatel: | I14: IČ: | J14: 42716870
E15: Obec Koryta | I15: DIČ:
D17: Uchazeč: | I17: IČ: | J17: ='Rekapitulace stavby'!AN13 -> Vyplň údaj
E18: ='Rekapitulace stavby'!E14 -> Vyplň údaj | I18: DIČ: | J18: ='Rekapitulace stavby'!AN14 -> Vyplň údaj
D20: Projektant: | I20: IČ: | J20: 16546211
E21: Jiří PELANT | I21: DIČ:
D23: Zpracovatel: | I23: IČ: | J23: 16546211
E24: Jiří PELANT | I24: DIČ:
D26: Poznámka:
D30: Náklady z rozpočtu | J30: =J96 -> 0
D31: Ostatní náklady | J31: =J102 -> 0
D32: Cena bez DPH | J32: =ROUND(J30 + J31, 2) -> 0
F34: Základ daně | I34: Sazba daně | J34: Výše daně
D35: DPH | E35: základní | F35: =ROUND((SUM(BE102:BE109) + SUM(BE129:BE229)), 2) -> 0 | I35: 0.21 | J35: =ROUND(((SUM(BE102:BE109) + SUM(BE129:BE229))*I35), 2) -> 0
E36: snížená | F36: =ROUND((SUM(BF102:BF109) + SUM(BF129:BF229)), 2) -> 0 | I36: 0.15 | J36: =ROUND(((SUM(BF102:BF109) + SUM(BF129:BF229))*I36), 2) -> 0
E37: zákl. přenesená | F37: =ROUND((SUM(BG102:BG109) + SUM(BG129:BG229)), 2) -> 0 | I37: 0.21 | J37: =0 -> 0
E38: sníž. přenesená | F38: =ROUND((SUM(BH102:BH109) + SUM(BH129:BH229)), 2) -> 0 | I38: 0.15 | J38: =0 -> 0
E39: nulová | F39: =ROUND((SUM(BI102:BI109) + SUM(BI129:BI229)), 2) -> 0 | I39: 0 | J39: =0 -> 0
D41: Cena s DPH | G41: v | H41: CZK | J41: =SUM(J32:J39) -> 0
D50: Projektant | G50: Zpracovatel
D61: Datum a podpis: | F61: Razítko | G61: Datum a podpis: | J61: Razítko
D65: Objednavatel | G65: Uchazeč
D76: Datum a podpis: | F76: Razítko | G76: Datum a podpis: | J76: Razítko
C82: REKAPITULACE ČLENĚNÍ SOUPISU PRACÍ
C84: Stavba:
E85: =E7 -> Koryta - rekonstrukce VO a ODS
C86: Objekt:
E87: =E9 -> 2022_11_01 - VEŘEJNÉ OSVĚTLENÍ A ODS
C89: Místo: | F89: =F12 -> Koryta | I89: Datum: | J89: =IF(J12="","",J12) -> 8.8.2022
C91: Zadavatel: | F91: =E15 -> Obec Koryta | I91: Projektant: | J91: =E21 -> Jiří PELANT
C92: Uchazeč: | F92: =IF(E18="","",E18) -> Vyplň údaj | I92: Zpracovatel: | J92: =E24 -> Jiří PELANT
...
