Workbook

Sheet Rekapitulace stavby
A1: Export Komplet | BA1: 2.0 | BB1: ZAMOK | BT1: False | BU1: False | BV1: {b02cb749-b335-42c8-89c4-e3dc7c18fa67}
BS2: 0,01 | BT2: 21
BS3: 0,01 | BT3: 15
D4: REKAPITULACE STAVBY | AS4: v --- níže se nacházejí doplnkové a pomocné údaje k sestavám --- v | BE4: Návod na vyplnění | BS4: 0,001
D5: Kód: | K5: Koryta | BE5: Měnit lze pouze buňky se žlutým podbarvením!_x000D_ _x000D_ 1) na prvním listu Rekapitulace stavby vyplňte v sestavě_x000D_ _x000D_ a) Souhrnný list_x000D_ - údaje o Uchazeči_x000D_ (přenesou se do ostatních sestav i v jiných listech)_x000D_ _x000D_ b) Rekapitulace objektů_x000D_ - potřebné Ostatní náklady_x000D_ _x000D_ 2) na vybraných listech vyplňte v sestavě_x000D_ _x000D_ a) Krycí list_x000D_ - údaje o Uchazeči, pokud se liší od údajů o Uchazeči na Souhrnném listu_x000D_ (údaje se přenesou do ostatních sestav v daném listu)_x000D_ _x000D_ b) Rekapitulace rozpočtu_x000D_ - potřebné Ostatní náklady_x000D_ _x000D_ c) Celkové náklady za stavbu_x000D_ - ceny u položek_x000D_ - množství, pokud má žluté podbarvení_x000D_ - a v případě potřeby poznámku (ta je ve skrytém sloupci) | BS5: 0,01
D6: Stavba: | K6: Obnova místních komunikací v obci Koryta | BS6: 0,01
D7: KSO: | AK7: CC-CZ: | BS7: 0,01
D8: Místo: | AK8: Datum: | BS8: 0,01
BS9: 0,01
D10: Zadavatel: | AK10: IČ: | BS10: 0,01
E11: Obec Koryta | AK11: DIČ: | BS11: 0,01
BS12: 0,01
D13: Uchazeč: | AK13: IČ: | AN13: Vyplň údaj | BS13: 0,01
E14: Vyplň údaj | AK14: DIČ: | AN14: Vyplň údaj | BS14: 0,01
BS15: False
D16: Projektant: | AK16: IČ: | BS16: False
AK17: DIČ: | BS17: True
BS18: 0,01
D19: Zpracovatel: | AK19: IČ: | BS19: 0,01
AK20: DIČ: | BS20: True
D22: Poznámka:
D26: Cena bez DPH | AK26: =ROUND(AG94,2) -> 0
L28: Sazba daně | W28: Základ daně | AK28: Výše daně
D29: DPH | F29: základní | L29: 0.21 | W29: =ROUND(AZ94, 2) -> 0 | AK29: =ROUND(AV94, 2) -> 0
F30: snížená | L30: 0.15 | W30: =ROUND(BA94, 2) -> 0 | AK30: =ROUND(AW94, 2) -> 0
F31: zákl. přenesená | L31: 0.21 | W31: =ROUND(BB94, 2) -> 0 | AK31: 0
F32: sníž. přenesená | L32: 0.15 | W32: =ROUND(BC94, 2) -> 0 | AK32: 0
F33: nulová | L33: 0 | W33: =ROUND(BD94, 2) -> 0 | AK33: 0
D35: Cena s DPH | T35: v | X35: CZK | AK35: =SUM(AK26:AK33) -> 0
D49: Projektant | AH49: Zpracovatel
D60: Datum a podpis: | V60: Razítko | AH60: Datum a podpis: | AM60: Razítko
D64: Objednavatel | AH64: Uchazeč
D75: Datum a podpis: | V75: Razítko | AH75: Datum a podpis: | AM75: Razítko
C82: REKAPITULACE OBJEKTŮ STAVBY A SOUPISŮ PRACÍ
C84: Kód: | L84: =K5 -> Koryta
C85: Stavba: | L85: =K6 -> Obnova místních komunikací v obci Koryta
C87: Místo: | L87: =IF(K8="","",K8) | AI87: Datum: | AM87: =IF(AN8= "","",AN8)
C89: Zadavatel: | L89: =IF(E11= "","",E11) -> Obec Koryta | AI89: Projektant: | AM89: =IF(E17="","",E17) | AS89: Informatívní údaje z listů zakázek
C90: Uchazeč: | L90: =IF(E14= "Vyplň údaj","",E14) | AI90: Zpracovatel: | AM90: =IF(E20="","",E20)
C92: Kód | I92: Popis | AG92: Cena bez DPH [CZK] | AN92: Cena s DPH [CZK] | AQ92: Typ | AS92: z toho Ostat._x000D_ náklady [CZK] | AT92: DPH [CZK] | AU92: Normohodiny [h] | AV92: DPH základní [CZK] | AW92: DPH snížená [CZK] | AX92: DPH základní přenesená_x000D_ [CZK] | AY92: DPH snížená přenesená_x000D_ [CZK] | AZ92: Základna_x000D_ DPH základní | BA92: Základna_x000D_ DPH snížená | BB92: Základna_x000D_ DPH zákl. přenesená | BC92: Základna_x000D_ DPH sníž. přenesená | BD92: Základna_x000D_ DPH nulová
C94: Náklady z rozpočtů | AG94: =ROUND(SUM(AG95:AG96),2) -> 0 | AN94: =SUM(AG94,AT94) -> 0 | AS94: =ROUND(SUM(AS95:AS96),2) -> 0 | AT94: =ROUND(SUM(AV94:AW94),2) -> 0 | AU94: =ROUND(SUM(AU95:AU96),5) -> 0 | AV94: =ROUND(AZ94*L29,2) -> 0 | AW94: =ROUND(BA94*L30,2) -> 0 | AX94: =ROUND(BB94*L29,2) -> 0 | AY94: =ROUND(BC94*L30,2) -> 0 | AZ94: =ROUND(SUM(AZ95:AZ96),2) -> 0 | BA94: =ROUND(SUM(BA95:BA96),2) -> 0 | BB94: =ROUND(SUM(BB95:BB96),2) -> 0 | BC94: =ROUND(SUM(BC95:BC96),2) -> 0 | BD94: =ROUND(SUM(BD95:BD96),2) -> 0 | BS94: D | BT94: 0 | BU94: ###NOIMPORT### | BV94: IMPORT | BW94: {b02cb749-b335-42c8-89c4-e3dc7c18fa67} | BX94: {00000000-0000-0000-0000-000000000000}
A95: / | D95: SO.101 | J95: Komunikace | AG95: ='SO.101 - Komunikace'!J30 -> 0 | AN95: =SUM(AG95,AT95) -> 0 | AQ95: STA | AS95: 0 | AT95: =ROUND(SUM(AV95:AW95),2) -> 0 | AU95: ='SO.101 - Komunikace'!P122 -> 0 | AV95: ='SO.101 - Komunikace'!J33 -> 0 | AW95: ='SO.101 - Komunikace'!J34 -> 0 | AX95: ='SO.101 - Komunikace'!J35 -> 0 | AY95: ='SO.101 - Komunikace'!J36 -> 0 | AZ95: ='SO.101 - Komunikace'!F33 -> 0 | BA95: ='SO.101 - Komunikace'!F34 -> 0 | BB95: ='SO.101 - Komunikace'!F35 -> 0 | BC95: ='SO.101 - Komunikace'!F36 -> 0 | BD95: ='SO.101 - Komunikace'!F37 -> 0 | BT95: 1 | BV95: IMPORT | BW95: {3176a67e-85cd-45f3-9da5-9833c6440c23} | BX95: {b02cb749-b335-42c8-89c4-e3dc7c18fa67} | CM95: 2
A96: / | D96: VRN | J96: Vedlejší rozpočtové náklady | AG96: ='VRN - Vedlejší rozpočtové...'!J30 -> 0 | AN96: =SUM(AG96,AT96) -> 0 | AQ96: STA | AS96: 0 | AT96: =ROUND(SUM(AV96:AW96),2) -> 0 | AU96: ='VRN - Vedlejší rozpočtové...'!P119 -> 0 | AV96: ='VRN - Vedlejší rozpočtové...'!J33 -> 0 | AW96: ='VRN - Vedlejší rozpočtové...'!J34 -> 0 | AX96: ='VRN - Vedlejší rozpočtové...'!J35 -> 0 | AY96: ='VRN - Vedlejší rozpočtové...'!J36 -> 0 | AZ96: ='VRN - Vedlejší rozpočtové...'!F33 -> 0 | BA96: ='VRN - Vedlejší rozpočtové...'!F34 -> 0 | BB96: ='VRN - Vedlejší rozpočtové...'!F35 -> 0 | BC96: ='VRN - Vedlejší rozpočtové...'!F36 -> 0 | BD96: ='VRN - Vedlejší rozpočtové...'!F37 -> 0 | BT96: 1 | BV96: IMPORT | BW96: {2ccb7e58-f69a-4099-80b4-0221e11e88f6} | BX96: {b02cb749-b335-42c8-89c4-e3dc7c18fa67} | CM96: 2

Sheet SO.101 - Komunikace
AT2: {3176a67e-85cd-45f3-9da5-9833c6440c23}
AT3: 2
D4: KRYCÍ LIST SOUPISU PRACÍ | M4: v --- níže se nacházejí doplnkové a pomocné údaje k sestavám --- v | AT4: False
D6: Stavba:
E7: ='Rekapitulace stavby'!K6 -> Obnova místních komunikací v obci Koryta
D8: Objekt:
E9: SO.101 - Komunikace
D11: KSO: | I11: CC-CZ:
D12: Místo: | I12: Datum: | J12: ='Rekapitulace stavby'!AN8 -> 0
D14: Zadavatel: | I14: IČ:
E15: Obec Koryta | I15: DIČ:
D17: Uchazeč: | I17: IČ: | J17: ='Rekapitulace stavby'!AN13 -> Vyplň údaj
E18: ='Rekapitulace stavby'!E14 -> Vyplň údaj | I18: DIČ: | J18: ='Rekapitulace stavby'!AN14 -> Vyplň údaj
D20: Projektant: | I20: IČ: | J20: =IF('Rekapitulace stavby'!AN16="","",'Rekapitulace stavby'!AN16)
E21: =IF('Rekapitulace stavby'!E17="","",'Rekapitulace stavby'!E17) | I21: DIČ: | J21: =IF('Rekapitulace stavby'!AN17="","",'Rekapitulace stavby'!AN17)
D23: Zpracovatel: | I23: IČ: | J23: =IF('Rekapitulace stavby'!AN19="","",'Rekapitulace stavby'!AN19)
E24: =IF('Rekapitulace stavby'!E20="","",'Rekapitulace stavby'!E20) | I24: DIČ: | J24: =IF('Rekapitulace stavby'!AN20="","",'Rekapitulace stavby'!AN20)
D26: Poznámka:
D30: Cena bez DPH | J30: =ROUND(J122, 2) -> 0
F32: Základ daně | I32: Sazba daně | J32: Výše daně
D33: DPH | E33: základní | F33: =ROUND((SUM(BE122:BE221)), 2) -> 0 | I33: 0.21 | J33: =ROUND(((SUM(BE122:BE221))*I33), 2) -> 0
E34: snížená | F34: =ROUND((SUM(BF122:BF221)), 2) -> 0 | I34: 0.15 | J34: =ROUND(((SUM(BF122:BF221))*I34), 2) -> 0
E35: zákl. přenesená | F35: =ROUND((SUM(BG122:BG221)), 2) -> 0 | I35: 0.21 | J35: =0 -> 0
E36: sníž. přenesená | F36: =ROUND((SUM(BH122:BH221)), 2) -> 0 | I36: 0.15 | J36: =0 -> 0
E37: nulová | F37: =ROUND((SUM(BI122:BI221)), 2) -> 0 | I37: 0 | J37: =0 -> 0
D39: Cena s DPH | G39: v | H39: CZK | J39: =SUM(J30:J37) -> 0
D50: Projektant | G50: Zpracovatel
D61: Datum a podpis: | F61: Razítko | G61: Datum a podpis: | J61: Razítko
D65: Objednavatel | G65: Uchazeč
D76: Datum a podpis: | F76: Razítko | G76: Datum a podpis: | J76: Razítko
C82: REKAPITULACE ČLENĚNÍ SOUPISU PRACÍ
C84: Stavba:
E85: =E7 -> Obnova místních komunikací v obci Koryta
C86: Objekt:
E87: =E9 -> SO.101 - Komunikace
C89: Místo: | F89: =F12 | I89: Datum: | J89: =IF(J12="","",J12) -> 0
C91: Zadavatel: | F91: =E15 -> Obec Koryta | I91: Projektant: | J91: =E21
C92: Uchazeč: | F92: =IF(E18="","",E18) -> Vyplň údaj | I92: Zpracovatel: | J92: =E24
C94: Kód dílu - Popis | J94: Cena celkem [CZK]
C96: Náklady ze soupisu prací | J96: =J122 -> 0 | AU96: -1
D97: HSV - Práce a dodávky HSV | J97: =J123 -> 0
D98: 1 - Zemní práce | J98: =J124 -> 0
D99: 5 - Komunikace pozemní | J99: =J166 -> 0
D100: 9 - Ostatní konstrukce a práce, bourání | J100: =J193 -> 0
D101: 997 - Přesun sutě | J101: =J214 -> 0
D102: 998 - Přesun hmot | J102: =J220 -> 0
C109: SOUPIS PRACÍ
C111: Stavba:
E112: =E7 -> Obnova místních komunikací v obci Koryta
C113: Objekt:
E114: =E9 -> SO.101 - Komunikace
C116: Místo: | F116: =F12 | I116: Datum: | J116: =IF(J12="","",J12) -> 0
C118: Zadavatel: | F118: =E15 -> Obec Koryta | I118: Projektant: | J118: =E21
C119: Uchazeč: | F119: =IF(E18="","",E18) -> Vyplň údaj | I119: Zpracovatel: | J119: =E24
C121: PČ | D121: Typ | E121: Kód | F121: Popis | G121: MJ | H121: Množství | I121: J.cena [CZK] | J121: Cena celkem [CZK] | K121: Cenová soustava | N121: DPH | O121: J. Nh [h] | P121: Nh celkem [h] | Q121: J. hmotnost [t] | R121: Hmotnost celkem [t] | S121: J. suť [t] | T121: Suť Celkem [t]
C122: Náklady soupisu celkem | J122: =BK122 -> 0 | P122: =P123 -> 0 | R122: =R123 -> 73.154225 | T122: =T123 -> 382.038 | AT122: D | AU122: -1 | BK122: =BK123 -> 0
D123: D | E123: HSV | F123: Práce a dodávky HSV | J123: =BK123 -> 0 | P123: =P124+P166+P193+P214+P220 -> 0 | R123: =R124+R166+R193+R214+R220 -> 73.154225 | T123: =T124+T166+T193+T214+T220 -> 382.038 | AR123: 1 | AT123: D | AU123: 0 | AY123: ROZPOCET | BK123: =BK124+BK166+BK193+BK214+BK220 -> 0
D124: D | E124: 1 | F124: Zemní práce | J124: =BK124 -> 0 | P124: =SUM(P125:P165) -> 0 | R124: =SUM(R125:R165) -> 0.00372 | T124: =SUM(T125:T165) -> 364.538 | AR124: 1 | AT124: D | AU124: 1 | AY124: ROZPOCET | BK124: =SUM(BK125:BK165) -> 0
C125: 1 | D125: K | E125: 113107162 | F125: Odstranění podkladu z kameniva drceného tl 200 mm strojně pl přes 50 do 200 m2 | G125: m2 | H125: 490 | J125: =ROUND(I125*H125,2) -> 0 | K125: CS ÚRS 2020 02 | N125: základní | P125: =O125*H125 -> 0 | Q125: 0 | R125: =Q125*H125 -> 0 | S125: 0.29 | T125: =S125*H125 -> 142.1 | AR125: 4 | AT125: K | AU125: 2 | AY125: ROZPOCET | BE125: =IF(N125="základní",J125,0) -> 0 | BF125: =IF(N125="snížená",J125,0) -> 0 | BG125: =IF(N125="zákl. přenesená",J125,0) -> 0 | BH125: =IF(N125="sníž. přenesená",J125,0) -> 0 | BI125: =IF(N125="nulová",J125,0) -> 0 | BJ125: 1 | BK125: =ROUND(I125*H125,2) -> 0 | BL125: 4 | BM125: 645444238
D126: VV | F126: 295,0+170,0+25,0 "- obrusné štěrkové plochy | H126: 490 | AT126: VV | AU126: 2 | AV126: 2 | AW126: True | AX126: 1 | AY126: ROZPOCET
C127: 2 | D127: K | E127: 113107163 | F127: Odstranění podkladu z kameniva drceného tl 300 mm strojně pl přes 50 do 200 m2 | G127: m2 | H127: 285 | J127: =ROUND(I127*H127,2) -> 0 | K127: CS ÚRS 2020 02 | N127: základní | P127: =O127*H127 -> 0 | Q127: 0 | R127: =Q127*H127 -> 0 | S127: 0.44 | T127: =S127*H127 -> 125.4 | AR127: 4 | AT127: K | AU127: 2 | AY127: ROZPOCET | BE127: =IF(N127="základní",J127,0) -> 0 | BF127: =IF(N127="snížená",J127,0) -> 0 | BG127: =IF(N127="zákl. přenesená",J127,0) -> 0 | BH127: =IF(N127="sníž. přenesená",J127,0) -> 0 | BI127: =IF(N127="nulová",J127,0) -> 0 | BJ127: 1 | BK127: =ROUND(I127*H127,2) -> 0 | BL127: 4 | BM127: 207379062
D128: VV | F128: 285,0 "- podkladní štěrkové vrstvy | H128: 285 | AT128: VV | AU128: 2 | AV128: 2 | AW128: True | AX128: 1 | AY128: ROZPOCET
C129: 3 | D129: K | E129: 113107243 | F129: Odstranění podkladu živičného tl 150 mm strojně pl přes 200 m2 | G129: m2 | H129: 285 | J129: =ROUND(I129*H129,2) -> 0 | K129: CS ÚRS 2020 02 | N129: základní | P129: =O129*H129 -> 0 | Q129: 0 | R129: =Q129*H129 -> 0 | S129: 0.316 | T129: =S129*H129 -> 90.06 | AR129: 4 | AT129: K | AU129: 2 | AY129: ROZPOCET | BE129: =IF(N129="základní",J129,0) -> 0 | BF129: =IF(N129="snížená",J129,0) -> 0 | BG129: =IF(N129="zákl. přenesená",J129,0) -> 0 | BH129: =IF(N129="sníž. přenesená",J129,0) -> 0 | BI129: =IF(N129="nulová",J129,0) -> 0 | BJ129: 1 | BK129: =ROUND(I129*H129,2) -> 0 | BL129: 4 | BM129: -377979676
D130: VV | F130: 285,0 | H130: 285 | AT130: VV | AU130: 2 | AV130: 2 | AW130: True | AX130: 1 | AY130: ROZPOCET
C131: 4 | D131: K | E131: 113154112 | F131: Frézování živičného krytu tl 40 mm pruh š 0,5 m pl do 500 m2 bez překážek v trase | G131: m2 | H131: 9 | J131: =ROUND(I131*H131,2) -> 0 | K131: CS ÚRS 2020 02 | N131: základní | P131: =O131*H131 -> 0 | Q131: 3e-05 | R131: =Q131*H131 -> 0.00027 | S131: 0.092 | T131: =S131*H131 -> 0.828 | AR131: 4 | AT131: K | AU131: 2 | AY131: ROZPOCET | BE131: =IF(N131="základní",J131,0) -> 0 | BF131: =IF(N131="snížená",J131,0) -> 0 | BG131: =IF(N131="zákl. přenesená",J131,0) -> 0 | BH131: =IF(N131="sníž. přenesená",J131,0) -> 0 | BI131: =IF(N131="nulová",J131,0) -> 0 | BJ131: 1 | BK131: =ROUND(I131*H131,2) -> 0 | BL131: 4 | BM131: -635864634
D132: VV | F132: 6,0+3,0 "- napojení | H132: 9 | AT132: VV | AU132: 2 | AV132: 2 | AW132: True | AX132: 1 | AY132: ROZPOCET
C133: 5 | D133: K | E133: 113202111 | F133: Vytrhání obrub krajníků obrubníků stojatých | G133: m | H133: 30 | J133: =ROUND(I133*H133,2) -> 0 | K133: CS ÚRS 2020 02 | N133: základní | P133: =O133*H133 -> 0 | Q133: 0 | R133: =Q133*H133 -> 0 | S133: 0.205 | T133: =S133*H133 -> 6.15 | AR133: 4 | AT133: K | AU133: 2 | AY133: ROZPOCET | BE133: =IF(N133="základní",J133,0) -> 0 | BF133: =IF(N133="snížená",J133,0) -> 0 | BG133: =IF(N133="zákl. přenesená",J133,0) -> 0 | BH133: =IF(N133="sníž. přenesená",J133,0) -> 0 | BI133: =IF(N133="nulová",J133,0) -> 0 | BJ133: 1 | BK133: =ROUND(I133*H133,2) -> 0 | BL133: 4 | BM133: -273961008
D134: VV | F134: 30,0 "- podél komunikací | H134: 30 | AT134: VV | AU134: 2 | AV134: 2 | AW134: True | AX134: 1 | AY134: ROZPOCET
C135: 6 | D135: K | E135: 121103111 | F135: Skrývka zemin schopných zúrodnění v rovině a svahu do 1:5 | G135: m3 | H135: 50.6 | J135: =ROUND(I135*H135,2) -> 0 | K135: CS ÚRS 2020 02 | N135: základní | P135: =O135*H135 -> 0 | Q135: 0 | R135: =Q135*H135 -> 0 | S135: 0 | T135: =S135*H135 -> 0 | AR135: 4 | AT135: K | AU135: 2 | AY135: ROZPOCET | BE135: =IF(N135="základní",J135,0) -> 0 | BF135: =IF(N135="snížená",J135,0) -> 0 | BG135: =IF(N135="zákl. přenesená",J135,0) -> 0 | BH135: =IF(N135="sníž. přenesená",J135,0) -> 0 | BI135: =IF(N135="nulová",J135,0) -> 0 | BJ135: 1 | BK135: =ROUND(I135*H135,2) -> 0 | BL135: 4 | BM135: -691413990
D136: VV | F136: 0,150*(115,0+119,0+38,0+5,33+35,0+25,0) "- podél komunikací | H136: 50.6 | AT136: VV | AU136: 2 | AV136: 2 | AW136: True | AX136: 1 | AY136: ROZPOCET
C137: 7 | D137: K | E137: 122252203 | F137: Odkopávky a prokopávky nezapažené pro silnice a dálnice v hornině třídy těžitelnosti I objem do 100 m3 strojně | G137: m3 | H137: 21.06 | J137: =ROUND(I137*H137,2) -> 0 | K137: CS ÚRS 2020 02 | N137: základní | P137: =O137*H137 -> 0 | Q137: 0 | R137: =Q137*H137 -> 0 | S137: 0 | T137: =S137*H137 -> 0 | AR137: 4 | AT137: K | AU137: 2 | AY137: ROZPOCET | BE137: =IF(N137="základní",J137,0) -> 0 | BF137: =IF(N137="snížená",J137,0) -> 0 | BG137: =IF(N137="zákl. přenesená",J137,0) -> 0 | BH137: =IF(N137="sníž. přenesená",J137,0) -> 0 | BI137: =IF(N137="nulová",J137,0) -> 0 | BJ137: 1 | BK137: =ROUND(I137*H137,2) -> 0 | BL137: 4 | BM137: 239095414
D138: VV | F138: 0,100*(170,0+25,0)*1,08 "- podkladní štěrkové vrstvy - komunikace v kopci | H138: 21.06 | AT138: VV | AU138: 2 | AV138: 2 | AW138: True | AX138: 1 | AY138: ROZPOCET
C139: 8 | D139: K | E139: 122557203 | F139: Odkopávky a prokopávky nezapažené pro silnice a dálnice v hornině třídy těžitelnosti III objem do 100 m3 strojně v omezeném prostoru | G139: m3 | H139: 26.568 | J139: =ROUND(I139*H139,2) -> 0 | K139: CS ÚRS 2020 02 | N139: základní | P139: =O139*H139 -> 0 | Q139: 0 | R139: =Q139*H139 -> 0 | S139: 0 | T139: =S139*H139 -> 0 | AR139: 4 | AT139: K | AU139: 2 | AY139: ROZPOCET | BE139: =IF(N139="základní",J139,0) -> 0 | BF139: =IF(N139="snížená",J139,0) -> 0 | BG139: =IF(N139="zákl. přenesená",J139,0) -> 0 | BH139: =IF(N139="sníž. přenesená",J139,0) -> 0 | BI139: =IF(N139="nulová",J139,0) -> 0 | BJ139: 1 | BK139: =ROUND(I139*H139,2) -> 0 | BL139: 4 | BM139: 1288561680
D140: VV | F140: uvažováno se zastižením skalního podloží ve 30% celkové plochy: | AT140: VV | AU140: 2 | AV140: 1 | AW140: True | AX140: 0 | AY140: ROZPOCET
D141: VV | F141: 0,3*0,200*410,0*1,08 "- podkladní štěrkové vrstvy - komunikace v kopci | H141: 26.568 | AT141: VV | AU141: 2 | AV141: 2 | AW141: True | AX141: 1 | AY141: ROZPOCET
C142: 9 | D142: K | E142: 129001101 | F142: Příplatek za ztížení odkopávky nebo prokopávky v blízkosti inženýrských sítí | G142: m3 | H142: 7.144 | J142: =ROUND(I142*H142,2) -> 0 | K142: CS ÚRS 2020 02 | N142: základní | P142: =O142*H142 -> 0 | Q142: 0 | R142: =Q142*H142 -> 0 | S142: 0 | T142: =S142*H142 -> 0 | AR142: 4 | AT142: K | AU142: 2 | AY142: ROZPOCET | BE142: =IF(N142="základní",J142,0) -> 0 | BF142: =IF(N142="snížená",J142,0) -> 0 | BG142: =IF(N142="zákl. přenesená",J142,0) -> 0 | BH142: =IF(N142="sníž. přenesená",J142,0) -> 0 | BI142: =IF(N142="nulová",J142,0) -> 0 | BJ142: 1 | BK142: =ROUND(I142*H142,2) -> 0 | BL142: 4 | BM142: 1600499124
D143: VV | F143: uvažováno zastižení v 15,0% celkového objemu: | AT143: VV | AU143: 2 | AV143: 1 | AW143: True | AX143: 0 | AY143: ROZPOCET
D144: VV | F144: 0,15*(21,060+26,568) "- z odkopů pro komunikace | H144: 7.144 | AT144: VV | AU144: 2 | AV144: 2 | AW144: True | AX144: 1 | AY144: ROZPOCET
C145: 10 | D145: K | E145: 162351103 | F145: Vodorovné přemístění do 500 m výkopku/sypaniny z horniny třídy těžitelnosti I, skupiny 1 až 3 | G145: m3 | H145: 50.6 | J145: =ROUND(I145*H145,2) -> 0 | K145: CS ÚRS 2020 02 | N145: základní | P145: =O145*H145 -> 0 | Q145: 0 | R145: =Q145*H145 -> 0 | S145: 0 | T145: =S145*H145 -> 0 | AR145: 4 | AT145: K | AU145: 2 | AY145: ROZPOCET | BE145: =IF(N145="základní",J145,0) -> 0 | BF145: =IF(N145="snížená",J145,0) -> 0 | BG145: =IF(N145="zákl. přenesená",J145,0) -> 0 | BH145: =IF(N145="sníž. přenesená",J145,0) -> 0 | BI145: =IF(N145="nulová",J145,0) -> 0 | BJ145: 1 | BK145: =ROUND(I145*H145,2) -> 0 | BL145: 4 | BM145: -1838257207
D146: VV | F146: dovoz na deponii pro zpětné využití: | AT146: VV | AU146: 2 | AV146: 1 | AW146: True | AX146: 0 | AY146: ROZPOCET
D147: VV | F147: 50,60 "- sejmutá ornice | H147: 50.6 | AT147: VV | AU147: 2 | AV147: 2 | AW147: True | AX147: 1 | AY147: ROZPOCET
C148: 11 | D148: K | E148: 162751117 | F148: Vodorovné přemístění do 10000 m výkopku/sypaniny z horniny třídy těžitelnosti I, skupiny 1 až 3 | G148: m3 | H148: 47.628 | J148: =ROUND(I148*H148,2) -> 0 | K148: CS ÚRS 2020 02 | N148: základní | P148: =O148*H148 -> 0 | Q148: 0 | R148: =Q148*H148 -> 0 | S148: 0 | T148: =S148*H148 -> 0 | AR148: 4 | AT148: K | AU148: 2 | AY148: ROZPOCET | BE148: =IF(N148="základní",J148,0) -> 0 | BF148: =IF(N148="snížená",J148,0) -> 0 | BG148: =IF(N148="zákl. přenesená",J148,0) -> 0 | BH148: =IF(N148="sníž. přenesená",J148,0) -> 0 | BI148: =IF(N148="nulová",J148,0) -> 0 | BJ148: 1 | BK148: =ROUND(I148*H148,2) -> 0 | BL148: 4 | BM148: -1203369024
D149: VV | F149: odvoz přebytečného výkopku na skládku: | AT149: VV | AU149: 2 | AV149: 1 | AW149: True | AX149: 0 | AY149: ROZPOCET
D150: VV | F150: 21,060+26,568 "- z odkopů pro komunikace | H150: 47.628 | AT150: VV | AU150: 2 | AV150: 2 | AW150: True | AX150: 1 | AY150: ROZPOCET
C151: 12 | D151: K | E151: 171201221 | F151: Poplatek za uložení na skládce (skládkovné) zeminy a kamení kód odpadu 17 05 04 | G151: t | H151: 88.112 | J151: =ROUND(I151*H151,2) -> 0 | K151: CS ÚRS 2020 02 | N151: základní | P151: =O151*H151 -> 0 | Q151: 0 | R151: =Q151*H151 -> 0 | S151: 0 | T151: =S151*H151 -> 0 | AR151: 4 | AT151: K | AU151: 2 | AY151: ROZPOCET | BE151: =IF(N151="základní",J151,0) -> 0 | BF151: =IF(N151="snížená",J151,0) -> 0 | BG151: =IF(N151="zákl. přenesená",J151,0) -> 0 | BH151: =IF(N151="sníž. přenesená",J151,0) -> 0 | BI151: =IF(N151="nulová",J151,0) -> 0 | BJ151: 1 | BK151: =ROUND(I151*H151,2) -> 0 | BL151: 4 | BM151: 1446515570
D152: VV | F152: 47,628 "- viz. 162701105 - Vodorovné přemístění výkopku... | H152: 47.628 | AT152: VV | AU152: 2 | AV152: 2 | AW152: True | AX152: 1 | AY152: ROZPOCET
D153: VV | F153: 47,628*1,85 'Přepočtené koeficientem množství | H153: 88.112 | AT153: VV | AU153: 2 | AV153: 2 | AW153: False | AX153: 1 | AY153: ROZPOCET
C154: 13 | D154: K | E154: 171251201 | F154: Uložení sypaniny na skládky nebo meziskládky | G154: m3 | H154: 47.628 | J154: =ROUND(I154*H154,2) -> 0 | K154: CS ÚRS 2020 02 | N154: základní | P154: =O154*H154 -> 0 | Q154: 0 | R154: =Q154*H154 -> 0 | S154: 0 | T154: =S154*H154 -> 0 | AR154: 4 | AT154: K | AU154: 2 | AY154: ROZPOCET | BE154: =IF(N154="základní",J154,0) -> 0 | BF154: =IF(N154="snížená",J154,0) -> 0 | BG154: =IF(N154="zákl. přenesená",J154,0) -> 0 | BH154: =IF(N154="sníž. přenesená",J154,0) -> 0 | BI154: =IF(N154="nulová",J154,0) -> 0 | BJ154: 1 | BK154: =ROUND(I154*H154,2) -> 0 | BL154: 4 | BM154: 158402644
D155: VV | F155: 47,628 "- viz. 162701105 - Vodorovné přemístění výkopku... | H155: 47.628 | AT155: VV | AU155: 2 | AV155: 2 | AW155: True | AX155: 1 | AY155: ROZPOCET
C156: 14 | D156: K | E156: 181152302 | F156: Úprava pláně pro silnice a dálnice v zářezech se zhutněním | G156: m2 | H156: 945 | J156: =ROUND(I156*H156,2) -> 0 | K156: CS ÚRS 2020 02 | N156: základní | P156: =O156*H156 -> 0 | Q156: 0 | R156: =Q156*H156 -> 0 | S156: 0 | T156: =S156*H156 -> 0 | AR156: 4 | AT156: K | AU156: 2 | AY156: ROZPOCET | BE156: =IF(N156="základní",J156,0) -> 0 | BF156: =IF(N156="snížená",J156,0) -> 0 | BG156: =IF(N156="zákl. přenesená",J156,0) -> 0 | BH156: =IF(N156="sníž. přenesená",J156,0) -> 0 | BI156: =IF(N156="nulová",J156,0) -> 0 | BJ156: 1 | BK156: =ROUND(I156*H156,2) -> 0 | BL156: 4 | BM156: 1151670533
D157: VV | F157: zhutnění pláně: | AT157: VV | AU157: 2 | AV157: 1 | AW157: True | AX157: 0 | AY157: ROZPOCET
D158: VV | F158: 465,0*1,08 "- komunikace u OÚ | H158: 502.2 | AT158: VV | AU158: 2 | AV158: 2 | AW158: True | AX158: 0 | AY158: ROZPOCET
D159: VV | F159: 410,0*1,08 "- komunikace v kopci | H159: 442.8 | AT159: VV | AU159: 2 | AV159: 2 | AW159: True | AX159: 0 | AY159: ROZPOCET
D160: VV | F160: Součet | H160: 945 | AT160: VV | AU160: 2 | AV160: 4 | AW160: True | AX160: 1 | AY160: ROZPOCET
C161: 15 | D161: K | E161: 181411131 | F161: Založení parkového trávníku výsevem plochy do 1000 m2 v rovině a ve svahu do 1:5 | G161: m2 | H161: 230 | J161: =ROUND(I161*H161,2) -> 0 | K161: CS ÚRS 2020 02 | N161: základní | P161: =O161*H161 -> 0 | Q161: 0 | R161: =Q161*H161 -> 0 | S161: 0 | T161: =S161*H161 -> 0 | AR161: 4 | AT161: K | AU161: 2 | AY161: ROZPOCET | BE161: =IF(N161="základní",J161,0) -> 0 | BF161: =IF(N161="snížená",J161,0) -> 0 | BG161: =IF(N161="zákl. přenesená",J161,0) -> 0 | BH161: =IF(N161="sníž. přenesená",J161,0) -> 0 | BI161: =IF(N161="nulová",J161,0) -> 0 | BJ161: 1 | BK161: =ROUND(I161*H161,2) -> 0 | BL161: 4 | BM161: -1178068685
D162: VV | F162: 15,0+20,0+50,0+50,0+30,0+55,0+10,0 "- napojení podél komunikací | H162: 230 | AT162: VV | AU162: 2 | AV162: 2 | AW162: True | AX162: 1 | AY162: ROZPOCET
C163: 16 | D163: M | E163: 00572470 | F163: osivo směs travní univerzál | G163: kg | H163: 3.45 | J163: =ROUND(I163*H163,2) -> 0 | K163: CS ÚRS 2020 02 | N163: základní | P163: =O163*H163 -> 0 | Q163: 0.001 | R163: =Q163*H163 -> 0.00345 | S163: 0 | T163: =S163*H163 -> 0 | AR163: 8 | AT163: M | AU163: 2 | AY163: ROZPOCET | BE163: =IF(N163="základní",J163,0) -> 0 | BF163: =IF(N163="snížená",J163,0) -> 0 | BG163: =IF(N163="zákl. přenesená",J163,0) -> 0 | BH163: =IF(N163="sníž. přenesená",J163,0) -> 0 | BI163: =IF(N163="nulová",J163,0) -> 0 | BJ163: 1 | BK163: =ROUND(I163*H163,2) -> 0 | BL163: 4 | BM163: -843142668
D164: VV | F164: 230,0 | H164: 230 | AT164: VV | AU164: 2 | AV164: 2 | AW164: True | AX164: 1 | AY164: ROZPOCET
D165: VV | F165: 230*0,015 'Přepočtené koeficientem množství | H165: 3.45 | AT165: VV | AU165: 2 | AV165: 2 | AW165: False | AX165: 1 | AY165: ROZPOCET
D166: D | E166: 5 | F166: Komunikace pozemní | J166: =BK166 -> 0 | P166: =SUM(P167:P192) -> 0 | R166: =SUM(R167:R192) -> 4.3315 | T166: =SUM(T167:T192) -> 0 | AR166: 1 | AT166: D | AU166: 1 | AY166: ROZPOCET | BK166: =SUM(BK167:BK192) -> 0
...

Sheet VRN - Vedlejší rozpočtové...
AT2: {2ccb7e58-f69a-4099-80b4-0221e11e88f6}
AT3: 2
D4: KRYCÍ LIST SOUPISU PRACÍ | M4: v --- níže se nacházejí doplnkové a pomocné údaje k sestavám --- v | AT4: False
D6: Stavba:
E7: ='Rekapitulace stavby'!K6 -> Obnova místních komunikací v obci Koryta
D8: Objekt:
E9: VRN - Vedlejší rozpočtové náklady
D11: KSO: | I11: CC-CZ:
D12: Místo: | I12: Datum: | J12: ='Rekapitulace stavby'!AN8 -> 0
D14: Zadavatel: | I14: IČ:
E15: Obec Koryta | I15: DIČ:
D17: Uchazeč: | I17: IČ: | J17: ='Rekapitulace stavby'!AN13 -> Vyplň údaj
E18: ='Rekapitulace stavby'!E14 -> Vyplň údaj | I18: DIČ: | J18: ='Rekapitulace stavby'!AN14 -> Vyplň údaj
D20: Projektant: | I20: IČ: | J20: =IF('Rekapitulace stavby'!AN16="","",'Rekapitulace stavby'!AN16)
E21: =IF('Rekapitulace stavby'!E17="","",'Rekapitulace stavby'!E17) | I21: DIČ: | J21: =IF('Rekapitulace stavby'!AN17="","",'Rekapitulace stavby'!AN17)
D23: Zpracovatel: | I23: IČ: | J23: =IF('Rekapitulace stavby'!AN19="","",'Rekapitulace stavby'!AN19)
E24: =IF('Rekapitulace stavby'!E20="","",'Rekapitulace stavby'!E20) | I24: DIČ: | J24: =IF('Rekapitulace stavby'!AN20="","",'Rekapitulace stavby'!AN20)
D26: Poznámka:
D30: Cena bez DPH | J30: =ROUND(J119, 2) -> 0
F32: Základ daně | I32: Sazba daně | J32: Výše daně
D33: DPH | E33: základní | F33: =ROUND((SUM(BE119:BE142)), 2) -> 0 | I33: 0.21 | J33: =ROUND(((SUM(BE119:BE142))*I33), 2) -> 0
E34: snížená | F34: =ROUND((SUM(BF119:BF142)), 2) -> 0 | I34: 0.15 | J34: =ROUND(((SUM(BF119:BF142))*I34), 2) -> 0
E35: zákl. přenesená | F35: =ROUND((SUM(BG119:BG142)), 2) -> 0 | I35: 0.21 | J35: =0 -> 0
E36: sníž. přenesená | F36: =ROUND((SUM(BH119:BH142)), 2) -> 0 | I36: 0.15 | J36: =0 -> 0
E37: nulová | F37: =ROUND((SUM(BI119:BI142)), 2) -> 0 | I37: 0 | J37: =0 -> 0
D39: Cena s DPH | G39: v | H39: CZK | J39: =SUM(J30:J37) -> 0
D50: Projektant | G50: Zpracovatel
D61: Datum a podpis: | F61: Razítko | G61: Datum a podpis: | J61: Razítko
D65: Objednavatel | G65: Uchazeč
D76: Datum a podpis: | F76: Razítko | G76: Datum a podpis: | J76: Razítko
C82: REKAPITULACE ČLENĚNÍ SOUPISU PRACÍ
C84: Stavba:
E85: =E7 -> Obnova místních komunikací v obci Koryta
C86: Objekt:
E87: =E9 -> VRN - Vedlejší rozpočtové náklady
C89: Místo: | F89: =F12 | I89: Datum: | J89: =IF(J12="","",J12) -> 0
C91: Zadavatel: | F91: =E15 -> Obec Koryta | I91: Projektant: | J91: =E21
C92: Uchazeč: | F92: =IF(E18="","",E18) -> Vyplň údaj | I92: Zpracovatel: | J92: =E24
C94: Kód dílu - Popis | J94: Cena celkem [CZK]
C96: Náklady ze soupisu prací | J96: =J119 -> 0 | AU96: -1
D97: OST - Vedlejší rozpočtové náklady | J97: =J120 -> 0
D98: O02 - Vedlejší náklady | J98: =J121 -> 0
D99: O03 - Ostatní náklady | J99: =J138 -> 0
C106: SOUPIS PRACÍ
C108: Stavba:
E109: =E7 -> Obnova místních komunikací v obci Koryta
C110: Objekt:
E111: =E9 -> VRN - Vedlejší rozpočtové náklady
C113: Místo: | F113: =F12 | I113: Datum: | J113: =IF(J12="","",J12) -> 0
C115: Zadavatel: | F115: =E15 -> Obec Koryta | I115: Projektant: | J115: =E21
C116: Uchazeč: | F116: =IF(E18="","",E18) -> Vyplň údaj | I116: Zpracovatel: | J116: =E24
C118: PČ | D118: Typ | E118: Kód | F118: Popis | G118: MJ | H118: Množství | I118: J.cena [CZK] | J118: Cena celkem [CZK] | K118: Cenová soustava | N118: DPH | O118: J. Nh [h] | P118: Nh celkem [h] | Q118: J. hmotnost [t] | R118: Hmotnost celkem [t] | S118: J. suť [t] | T118: Suť Celkem [t]
C119: Náklady soupisu celkem | J119: =BK119 -> 0 | P119: =P120 -> 0 | R119: =R120 -> 0 | T119: =T120 -> 0 | AT119: D | AU119: -1 | BK119: =BK120 -> 0
D120: D | E120: OST | F120: Vedlejší rozpočtové náklady | J120: =BK120 -> 0 | P120: =P121+P138 -> 0 | R120: =R121+R138 -> 0 | T120: =T121+T138 -> 0 | AR120: 4 | AT120: D | AU120: 0 | AY120: ROZPOCET | BK120: =BK121+BK138 -> 0
D121: D | E121: O02 | F121: Vedlejší náklady | J121: =BK121 -> 0 | P121: =SUM(P122:P137) -> 0 | R121: =SUM(R122:R137) -> 0 | T121: =SUM(T122:T137) -> 0 | AR121: 4 | AT121: D | AU121: 1 | AY121: ROZPOCET | BK121: =SUM(BK122:BK137) -> 0
C122: 1 | D122: K | E122: VON990001 | F122: Zajištění prostoru a vybudování zařízení staveniště včetně potřebných staveništních komunikací | G122: soubor | H122: 1 | J122: =ROUND(I122*H122,2) -> 0 | N122: základní | P122: =O122*H122 -> 0 | Q122: 0 | R122: =Q122*H122 -> 0 | S122: 0 | T122: =S122*H122 -> 0 | AR122: 1024 | AT122: K | AU122: 2 | AY122: ROZPOCET | BE122: =IF(N122="základní",J122,0) -> 0 | BF122: =IF(N122="snížená",J122,0) -> 0 | BG122: =IF(N122="zákl. přenesená",J122,0) -> 0 | BH122: =IF(N122="sníž. přenesená",J122,0) -> 0 | BI122: =IF(N122="nulová",J122,0) -> 0 | BJ122: 1 | BK122: =ROUND(I122*H122,2) -> 0 | BL122: 1024 | BM122: 1055036722
C123: 2 | D123: K | E123: VON990002 | F123: Oplocení stavby a staveniště mobilním oplocením | G123: soubor | H123: 1 | J123: =ROUND(I123*H123,2) -> 0 | N123: základní | P123: =O123*H123 -> 0 | Q123: 0 | R123: =Q123*H123 -> 0 | S123: 0 | T123: =S123*H123 -> 0 | AR123: 1024 | AT123: K | AU123: 2 | AY123: ROZPOCET | BE123: =IF(N123="základní",J123,0) -> 0 | BF123: =IF(N123="snížená",J123,0) -> 0 | BG123: =IF(N123="zákl. přenesená",J123,0) -> 0 | BH123: =IF(N123="sníž. přenesená",J123,0) -> 0 | BI123: =IF(N123="nulová",J123,0) -> 0 | BJ123: 1 | BK123: =ROUND(I123*H123,2) -> 0 | BL123: 1024 | BM123: -1290836421
C124: 3 | D124: K | E124: VON990004 | F124: Vytýčení hranic pozemků při provádění stavby | G124: soubor | H124: 1 | J124: =ROUND(I124*H124,2) -> 0 | N124: základní | P124: =O124*H124 -> 0 | Q124: 0 | R124: =Q124*H124 -> 0 | S124: 0 | T124: =S124*H124 -> 0 | AR124: 1024 | AT124: K | AU124: 2 | AY124: ROZPOCET | BE124: =IF(N124="základní",J124,0) -> 0 | BF124: =IF(N124="snížená",J124,0) -> 0 | BG124: =IF(N124="zákl. přenesená",J124,0) -> 0 | BH124: =IF(N124="sníž. přenesená",J124,0) -> 0 | BI124: =IF(N124="nulová",J124,0) -> 0 | BJ124: 1 | BK124: =ROUND(I124*H124,2) -> 0 | BL124: 1024 | BM124: -851300838
C125: 4 | D125: K | E125: VON990005 | F125: Zhotovení pasportizace stávajících nemovitostí a staveb, které mohou být výstavbou dotčeny | G125: soubor | H125: 1 | J125: =ROUND(I125*H125,2) -> 0 | N125: základní | P125: =O125*H125 -> 0 | Q125: 0 | R125: =Q125*H125 -> 0 | S125: 0 | T125: =S125*H125 -> 0 | AR125: 1024 | AT125: K | AU125: 2 | AY125: ROZPOCET | BE125: =IF(N125="základní",J125,0) -> 0 | BF125: =IF(N125="snížená",J125,0) -> 0 | BG125: =IF(N125="zákl. přenesená",J125,0) -> 0 | BH125: =IF(N125="sníž. přenesená",J125,0) -> 0 | BI125: =IF(N125="nulová",J125,0) -> 0 | BJ125: 1 | BK125: =ROUND(I125*H125,2) -> 0 | BL125: 1024 | BM125: 215953536
C126: 5 | D126: K | E126: VON990007 | F126: Zajištění vytýčení podzemních zařízení, a v případě jejich křížení či souběhu v otevřeném výkopu, jejich písemné předání zpět jejich správcům před zásypem | G126: soubor | H126: 1 | J126: =ROUND(I126*H126,2) -> 0 | N126: základní | P126: =O126*H126 -> 0 | Q126: 0 | R126: =Q126*H126 -> 0 | S126: 0 | T126: =S126*H126 -> 0 | AR126: 1024 | AT126: K | AU126: 2 | AY126: ROZPOCET | BE126: =IF(N126="základní",J126,0) -> 0 | BF126: =IF(N126="snížená",J126,0) -> 0 | BG126: =IF(N126="zákl. přenesená",J126,0) -> 0 | BH126: =IF(N126="sníž. přenesená",J126,0) -> 0 | BI126: =IF(N126="nulová",J126,0) -> 0 | BJ126: 1 | BK126: =ROUND(I126*H126,2) -> 0 | BL126: 1024 | BM126: -1910421078
C127: 6 | D127: K | E127: VON990009 | F127: Zajištění povolení zvláštního užívání komunikací v souladu s postupem výstavby,včetně správních poplatků a povolení k užívání dalších, stavbou dotčených pozemků (skládky materiálu, mezideponie atd.) | G127: soubor | H127: 1 | J127: =ROUND(I127*H127,2) -> 0 | N127: základní | P127: =O127*H127 -> 0 | Q127: 0 | R127: =Q127*H127 -> 0 | S127: 0 | T127: =S127*H127 -> 0 | AR127: 1024 | AT127: K | AU127: 2 | AY127: ROZPOCET | BE127: =IF(N127="základní",J127,0) -> 0 | BF127: =IF(N127="snížená",J127,0) -> 0 | BG127: =IF(N127="zákl. přenesená",J127,0) -> 0 | BH127: =IF(N127="sníž. přenesená",J127,0) -> 0 | BI127: =IF(N127="nulová",J127,0) -> 0 | BJ127: 1 | BK127: =ROUND(I127*H127,2) -> 0 | BL127: 1024 | BM127: 495820817
C128: 7 | D128: K | E128: VON990011 | F128: Zajištění provozu a funkčnosti stávajících komunikací které budou při realizaci stavby její realizací dotčeny | G128: soubor | H128: 1 | J128: =ROUND(I128*H128,2) -> 0 | N128: základní | P128: =O128*H128 -> 0 | Q128: 0 | R128: =Q128*H128 -> 0 | S128: 0 | T128: =S128*H128 -> 0 | AR128: 1024 | AT128: K | AU128: 2 | AY128: ROZPOCET | BE128: =IF(N128="základní",J128,0) -> 0 | BF128: =IF(N128="snížená",J128,0) -> 0 | BG128: =IF(N128="zákl. přenesená",J128,0) -> 0 | BH128: =IF(N128="sníž. přenesená",J128,0) -> 0 | BI128: =IF(N128="nulová",J128,0) -> 0 | BJ128: 1 | BK128: =ROUND(I128*H128,2) -> 0 | BL128: 1024 | BM128: 883509517
C129: 8 | D129: K | E129: VON990012 | F129: Zajištění čistoty na staveništi a v jeho okolí, zajištění každodenního čištění komunikací dotčených provozem zhotovitele | G129: soubor | H129: 1 | J129: =ROUND(I129*H129,2) -> 0 | N129: základní | P129: =O129*H129 -> 0 | Q129: 0 | R129: =Q129*H129 -> 0 | S129: 0 | T129: =S129*H129 -> 0 | AR129: 1024 | AT129: K | AU129: 2 | AY129: ROZPOCET | BE129: =IF(N129="základní",J129,0) -> 0 | BF129: =IF(N129="snížená",J129,0) -> 0 | BG129: =IF(N129="zákl. přenesená",J129,0) -> 0 | BH129: =IF(N129="sníž. přenesená",J129,0) -> 0 | BI129: =IF(N129="nulová",J129,0) -> 0 | BJ129: 1 | BK129: =ROUND(I129*H129,2) -> 0 | BL129: 1024 | BM129: 638222514
C130: 9 | D130: K | E130: VON990013 | F130: Fotodokumentace průběhu díla; zhotovitel zajistí a předá objednateli průběžnou fotodokumentaci realizace díla. Fotodokumentace bude dokladovat průběh díla a bude zejména dokumentovat části stavby a konstrukce před jejich zakrytím | G130: soubor | H130: 1 | J130: =ROUND(I130*H130,2) -> 0 | N130: základní | P130: =O130*H130 -> 0 | Q130: 0 | R130: =Q130*H130 -> 0 | S130: 0 | T130: =S130*H130 -> 0 | AR130: 1024 | AT130: K | AU130: 2 | AY130: ROZPOCET | BE130: =IF(N130="základní",J130,0) -> 0 | BF130: =IF(N130="snížená",J130,0) -> 0 | BG130: =IF(N130="zákl. přenesená",J130,0) -> 0 | BH130: =IF(N130="sníž. přenesená",J130,0) -> 0 | BI130: =IF(N130="nulová",J130,0) -> 0 | BJ130: 1 | BK130: =ROUND(I130*H130,2) -> 0 | BL130: 1024 | BM130: -812321168
C131: 10 | D131: K | E131: VON990014 | F131: Péče o nepředané objekty a konstrukce stavby, jejich ošetřování, zimní opatření | G131: soubor | H131: 1 | J131: =ROUND(I131*H131,2) -> 0 | N131: základní | P131: =O131*H131 -> 0 | Q131: 0 | R131: =Q131*H131 -> 0 | S131: 0 | T131: =S131*H131 -> 0 | AR131: 1024 | AT131: K | AU131: 2 | AY131: ROZPOCET | BE131: =IF(N131="základní",J131,0) -> 0 | BF131: =IF(N131="snížená",J131,0) -> 0 | BG131: =IF(N131="zákl. přenesená",J131,0) -> 0 | BH131: =IF(N131="sníž. přenesená",J131,0) -> 0 | BI131: =IF(N131="nulová",J131,0) -> 0 | BJ131: 1 | BK131: =ROUND(I131*H131,2) -> 0 | BL131: 1024 | BM131: -1005371633
C132: 11 | D132: K | E132: VON990015 | F132: Příprava a provedení předepsaných zkoušek dle PD - zkoušky pro určení zhutnění pláně | G132: kus | H132: 2 | J132: =ROUND(I132*H132,2) -> 0 | N132: základní | P132: =O132*H132 -> 0 | Q132: 0 | R132: =Q132*H132 -> 0 | S132: 0 | T132: =S132*H132 -> 0 | AR132: 1024 | AT132: K | AU132: 2 | AY132: ROZPOCET | BE132: =IF(N132="základní",J132,0) -> 0 | BF132: =IF(N132="snížená",J132,0) -> 0 | BG132: =IF(N132="zákl. přenesená",J132,0) -> 0 | BH132: =IF(N132="sníž. přenesená",J132,0) -> 0 | BI132: =IF(N132="nulová",J132,0) -> 0 | BJ132: 1 | BK132: =ROUND(I132*H132,2) -> 0 | BL132: 1024 | BM132: 1891340988
C133: 12 | D133: K | E133: VON990018 | F133: Inženýrská a kompletační činnost zhotovitele | G133: soubor | H133: 1 | J133: =ROUND(I133*H133,2) -> 0 | N133: základní | P133: =O133*H133 -> 0 | Q133: 0 | R133: =Q133*H133 -> 0 | S133: 0 | T133: =S133*H133 -> 0 | AR133: 1024 | AT133: K | AU133: 2 | AY133: ROZPOCET | BE133: =IF(N133="základní",J133,0) -> 0 | BF133: =IF(N133="snížená",J133,0) -> 0 | BG133: =IF(N133="zákl. přenesená",J133,0) -> 0 | BH133: =IF(N133="sníž. přenesená",J133,0) -> 0 | BI133: =IF(N133="nulová",J133,0) -> 0 | BJ133: 1 | BK133: =ROUND(I133*H133,2) -> 0 | BL133: 1024 | BM133: -715428012
... C137: 16 | D137: K | E137: VON990083 | F137: Dopravně - inženýrské opatření - odstranění | G137: soubor | H137: 1 | J137: =ROUND(I137*H137,2) -> 0 | N137: základní | P137: =O137*H137 -> 0 | Q137: 0 | R137: =Q137*H137 -> 0 | S137: 0 | T137: =S137*H137 -> 0 | AR137: 1024 | AT137: K | AU137: 2 | AY137: ROZPOCET | BE137: =IF(N137="základní",J137,0) -> 0 | BF137: =IF(N137="snížená",J137,0) -> 0 | BG137: =IF(N137="zákl. přenesená",J137,0) -> 0 | BH137: =IF(N137="sníž. přenesená",J137,0) -> 0 | BI137: =IF(N137="nulová",J137,0) -> 0 | BJ137: 1 | BK137: =ROUND(I137*H137,2) -> 0 | BL137: 1024 | BM137: 772792733
D138: D | E138: O03 | F138: Ostatní náklady | J138: =BK138 -> 0 | P138: =SUM(P139:P142) -> 0 | R138: =SUM(R139:R142) -> 0 | T138: =SUM(T139:T142) -> 0 | AR138: 4 | AT138: D | AU138: 1 | AY138: ROZPOCET | BK138: =SUM(BK139:BK142) -> 0
C139: 17 | D139: K | E139: ON990001-A | F139: Zajištění činnosti odpovědného geodeta zhotovitele - vytyčení stavby | G139: soubor | H139: 1 | J139: =ROUND(I139*H139,2) -> 0 | N139: základní | P139: =O139*H139 -> 0 | Q139: 0 | R139: =Q139*H139 -> 0 | S139: 0 | T139: =S139*H139 -> 0 | AR139: 262144 | AT139: K | AU139: 2 | AY139: ROZPOCET | BE139: =IF(N139="základní",J139,0) -> 0 | BF139: =IF(N139="snížená",J139,0) -> 0 | BG139: =IF(N139="zákl. přenesená",J139,0) -> 0 | BH139: =IF(N139="sníž. přenesená",J139,0) -> 0 | BI139: =IF(N139="nulová",J139,0) -> 0 | BJ139: 1 | BK139: =ROUND(I139*H139,2) -> 0 | BL139: 262144 | BM139: 510649470
C140: 18 | D140: K | E140: ON990001-B | F140: Zajištění činnosti odpovědného geodeta zhotovitele - zaměření skutečného provedení stavby | G140: soubor | H140: 1 | J140: =ROUND(I140*H140,2) -> 0 | N140: základní | P140: =O140*H140 -> 0 | Q140: 0 | R140: =Q140*H140 -> 0 | S140: 0 | T140: =S140*H140 -> 0 | AR140: 262144 | AT140: K | AU140: 2 | AY140: ROZPOCET | BE140: =IF(N140="základní",J140,0) -> 0 | BF140: =IF(N140="snížená",J140,0) -> 0 | BG140: =IF(N140="zákl. přenesená",J140,0) -> 0 | BH140: =IF(N140="sníž. přenesená",J140,0) -> 0 | BI140: =IF(N140="nulová",J140,0) -> 0 | BJ140: 1 | BK140: =ROUND(I140*H140,2) -> 0 | BL140: 262144 | BM140: 1588628280
C141: 19 | D141: K | E141: ON990002-A | F141: Zhotovení realizační dokumentace stavby | G141: soubor | H141: 1 | J141: =ROUND(I141*H141,2) -> 0 | N141: základní | P141: =O141*H141 -> 0 | Q141: 0 | R141: =Q141*H141 -> 0 | S141: 0 | T141: =S141*H141 -> 0 | AR141: 262144 | AT141: K | AU141: 2 | AY141: ROZPOCET | BE141: =IF(N141="základní",J141,0) -> 0 | BF141: =IF(N141="snížená",J141,0) -> 0 | BG141: =IF(N141="zákl. přenesená",J141,0) -> 0 | BH141: =IF(N141="sníž. přenesená",J141,0) -> 0 | BI141: =IF(N141="nulová",J141,0) -> 0 | BJ141: 1 | BK141: =ROUND(I141*H141,2) -> 0 | BL141: 262144 | BM141: -857770113
C142: 20 | D142: K | E142: ON990002-B | F142: Zhotovení dokumentace skutečného provedení díla | G142: soubor | H142: 1 | J142: =ROUND(I142*H142,2) -> 0 | N142: základní | P142: =O142*H142 -> 0 | Q142: 0 | R142: =Q142*H142 -> 0 | S142: 0 | T142: =S142*H142 -> 0 | AR142: 262144 | AT142: K | AU142: 2 | AY142: ROZPOCET | BE142: =IF(N142="základní",J142,0) -> 0 | BF142: =IF(N142="snížená",J142,0) -> 0 | BG142: =IF(N142="zákl. přenesená",J142,0) -> 0 | BH142: =IF(N142="sníž. přenesená",J142,0) -> 0 | BI142: =IF(N142="nulová",J142,0) -> 0 | BJ142: 1 | BK142: =ROUND(I142*H142,2) -> 0 | BL142: 262144 | BM142: -1072589547
